BEGIN:VCALENDAR
VERSION:2.0
PRODID:-//Connors State College - ECPv6.15.17.1//NONSGML v1.0//EN
CALSCALE:GREGORIAN
METHOD:PUBLISH
X-ORIGINAL-URL:https://connorsstate.edu
X-WR-CALDESC:Events for Connors State College
REFRESH-INTERVAL;VALUE=DURATION:PT1H
X-Robots-Tag:noindex
X-PUBLISHED-TTL:PT1H
BEGIN:VTIMEZONE
TZID:America/Chicago
BEGIN:DAYLIGHT
TZOFFSETFROM:-0600
TZOFFSETTO:-0500
TZNAME:CDT
DTSTART:20230312T080000
END:DAYLIGHT
BEGIN:STANDARD
TZOFFSETFROM:-0500
TZOFFSETTO:-0600
TZNAME:CST
DTSTART:20231105T070000
END:STANDARD
BEGIN:DAYLIGHT
TZOFFSETFROM:-0600
TZOFFSETTO:-0500
TZNAME:CDT
DTSTART:20240310T080000
END:DAYLIGHT
BEGIN:STANDARD
TZOFFSETFROM:-0500
TZOFFSETTO:-0600
TZNAME:CST
DTSTART:20241103T070000
END:STANDARD
BEGIN:DAYLIGHT
TZOFFSETFROM:-0600
TZOFFSETTO:-0500
TZNAME:CDT
DTSTART:20250309T080000
END:DAYLIGHT
BEGIN:STANDARD
TZOFFSETFROM:-0500
TZOFFSETTO:-0600
TZNAME:CST
DTSTART:20251102T070000
END:STANDARD
END:VTIMEZONE
BEGIN:VEVENT
DTSTART;VALUE=DATE:20241202
DTEND;VALUE=DATE:20241207
DTSTAMP:20260420T180105
CREATED:20241203T144736Z
LAST-MODIFIED:20241203T144736Z
UID:40990-1733097600-1733529599@connorsstate.edu
SUMMARY:Craft Table @ Library
DESCRIPTION:
URL:https://connorsstate.edu/event/craft-table-library/
LOCATION:CSC Library\, 700 College Road\, Warner\, OK\, 74469
ORGANIZER;CN="Ona Britton-Spears":MAILTO:ona.britton-spears@connorsstate.edu
END:VEVENT
BEGIN:VEVENT
DTSTART;VALUE=DATE:20241206
DTEND;VALUE=DATE:20241207
DTSTAMP:20260420T180105
CREATED:20240815T202510Z
LAST-MODIFIED:20240815T202510Z
UID:38463-1733443200-1733529599@connorsstate.edu
SUMMARY:Last day to apply for Fall degree completion
DESCRIPTION:
URL:https://connorsstate.edu/event/last-day-to-apply-for-fall-degree-completion-2/
LOCATION:OK
END:VEVENT
BEGIN:VEVENT
DTSTART;VALUE=DATE:20241206
DTEND;VALUE=DATE:20241209
DTSTAMP:20260420T180105
CREATED:20240911T150052Z
LAST-MODIFIED:20240911T150052Z
UID:39416-1733443200-1733702399@connorsstate.edu
SUMMARY:CSC Archery Team- Frozen Okie
DESCRIPTION:
URL:https://connorsstate.edu/event/csc-archery-team-frozen-okie/
LOCATION:OK
ORGANIZER;CN="Coach Johnny King":MAILTO:john.king10@connorsstate.edu
END:VEVENT
BEGIN:VEVENT
DTSTART;TZID=America/Chicago:20241206T080000
DTEND;TZID=America/Chicago:20241206T160000
DTSTAMP:20260420T180105
CREATED:20240815T202650Z
LAST-MODIFIED:20240815T202845Z
UID:38465-1733472000-1733500800@connorsstate.edu
SUMMARY:Last day to withdraw from all CSC courses (MUST VISIT ADMISSION FOR TOTAL WITHDRAWAL)
DESCRIPTION:
URL:https://connorsstate.edu/event/last-day-to-withdraw-from-all-csc-courses-must-visit-admission-for-total-withdrawal/
LOCATION:Muskogee & Warner Campuses
END:VEVENT
BEGIN:VEVENT
DTSTART;TZID=America/Chicago:20241206T170000
DTEND;TZID=America/Chicago:20241206T183000
DTSTAMP:20260420T180105
CREATED:20240829T150444Z
LAST-MODIFIED:20240829T150528Z
UID:38805-1733504400-1733509800@connorsstate.edu
SUMMARY:Cowgirls Basketball @ DC Mountain View
DESCRIPTION:Dallas TX
URL:https://connorsstate.edu/event/cowgirls-basketball-dc-mountain-view/
LOCATION:OK
ORGANIZER;CN="Coach Jaylen Thompson":MAILTO:jaylen.thompson@connorsstate.edu
END:VEVENT
END:VCALENDAR