BEGIN:VCALENDAR
VERSION:2.0
PRODID:-//Connors State College - ECPv6.15.17.1//NONSGML v1.0//EN
CALSCALE:GREGORIAN
METHOD:PUBLISH
X-ORIGINAL-URL:https://connorsstate.edu
X-WR-CALDESC:Events for Connors State College
REFRESH-INTERVAL;VALUE=DURATION:PT1H
X-Robots-Tag:noindex
X-PUBLISHED-TTL:PT1H
BEGIN:VTIMEZONE
TZID:America/Chicago
BEGIN:DAYLIGHT
TZOFFSETFROM:-0600
TZOFFSETTO:-0500
TZNAME:CDT
DTSTART:20240310T080000
END:DAYLIGHT
BEGIN:STANDARD
TZOFFSETFROM:-0500
TZOFFSETTO:-0600
TZNAME:CST
DTSTART:20241103T070000
END:STANDARD
BEGIN:DAYLIGHT
TZOFFSETFROM:-0600
TZOFFSETTO:-0500
TZNAME:CDT
DTSTART:20250309T080000
END:DAYLIGHT
BEGIN:STANDARD
TZOFFSETFROM:-0500
TZOFFSETTO:-0600
TZNAME:CST
DTSTART:20251102T070000
END:STANDARD
BEGIN:DAYLIGHT
TZOFFSETFROM:-0600
TZOFFSETTO:-0500
TZNAME:CDT
DTSTART:20260308T080000
END:DAYLIGHT
BEGIN:STANDARD
TZOFFSETFROM:-0500
TZOFFSETTO:-0600
TZNAME:CST
DTSTART:20261101T070000
END:STANDARD
END:VTIMEZONE
BEGIN:VEVENT
DTSTART;VALUE=DATE:20250206
DTEND;VALUE=DATE:20250211
DTSTAMP:20260420T145008
CREATED:20250122T214137Z
LAST-MODIFIED:20250122T214137Z
UID:42129-1738800000-1739231999@connorsstate.edu
SUMMARY:CSC Show Team- Dixie Nationals
DESCRIPTION:Jackson Mississippi
URL:https://connorsstate.edu/event/csc-show-team-dixie-nationals/
LOCATION:OK
ORGANIZER;CN="Stetson May":MAILTO:stetson.may@connorsstate.edu
END:VEVENT
BEGIN:VEVENT
DTSTART;VALUE=DATE:20250208
DTEND;VALUE=DATE:20250209
DTSTAMP:20260420T145008
CREATED:20250124T163826Z
LAST-MODIFIED:20250124T163826Z
UID:42175-1738972800-1739059199@connorsstate.edu
SUMMARY:CSC Livestock Judging Team-Dixie Nationals
DESCRIPTION:Jackson\, MS
URL:https://connorsstate.edu/event/csc-livestock-judging-team-dixie-nationals/
LOCATION:OK
ORGANIZER;CN="Daniel Lujan":MAILTO:daniel.lujan@connorsstate.edu
END:VEVENT
BEGIN:VEVENT
DTSTART;TZID=America/Chicago:20250208T120000
DTEND;TZID=America/Chicago:20250208T180000
DTSTAMP:20260420T145008
CREATED:20241031T184947Z
LAST-MODIFIED:20241031T184947Z
UID:40153-1739016000-1739037600@connorsstate.edu
SUMMARY:Connors State Stunt Tournament
DESCRIPTION:2/8/25 @ Warner \nNoon: Connors vs. SBU \n2 PM Connors vs. Centenary \n3 PM Connors vs. SBU \n5 PM Connors vs. Centenary
URL:https://connorsstate.edu/event/connors-state-stunt-tournament/
LOCATION:Melvin Self Fieldhouse\, 700 College Rd\, Warner\, OK\, 74469\, United States
ORGANIZER;CN="Coach Clint Maxcey":MAILTO:clint.maxcey@connorsstate.edu
END:VEVENT
BEGIN:VEVENT
DTSTART;TZID=America/Chicago:20250208T130000
DTEND;TZID=America/Chicago:20250208T170000
DTSTAMP:20260420T145008
CREATED:20250114T160048Z
LAST-MODIFIED:20250114T160048Z
UID:41831-1739019600-1739034000@connorsstate.edu
SUMMARY:CSC Baseball @ Murray State- DH
DESCRIPTION:@ Tishomingo
URL:https://connorsstate.edu/event/csc-baseball-murray-state-dh-2/
LOCATION:OK
END:VEVENT
END:VCALENDAR