BEGIN:VCALENDAR
VERSION:2.0
PRODID:-//Connors State College - ECPv6.15.17.1//NONSGML v1.0//EN
CALSCALE:GREGORIAN
METHOD:PUBLISH
X-WR-CALNAME:Connors State College
X-ORIGINAL-URL:https://connorsstate.edu
X-WR-CALDESC:Events for Connors State College
REFRESH-INTERVAL;VALUE=DURATION:PT1H
X-Robots-Tag:noindex
X-PUBLISHED-TTL:PT1H
BEGIN:VTIMEZONE
TZID:America/Chicago
BEGIN:DAYLIGHT
TZOFFSETFROM:-0600
TZOFFSETTO:-0500
TZNAME:CDT
DTSTART:20240310T080000
END:DAYLIGHT
BEGIN:STANDARD
TZOFFSETFROM:-0500
TZOFFSETTO:-0600
TZNAME:CST
DTSTART:20241103T070000
END:STANDARD
BEGIN:DAYLIGHT
TZOFFSETFROM:-0600
TZOFFSETTO:-0500
TZNAME:CDT
DTSTART:20250309T080000
END:DAYLIGHT
BEGIN:STANDARD
TZOFFSETFROM:-0500
TZOFFSETTO:-0600
TZNAME:CST
DTSTART:20251102T070000
END:STANDARD
BEGIN:DAYLIGHT
TZOFFSETFROM:-0600
TZOFFSETTO:-0500
TZNAME:CDT
DTSTART:20260308T080000
END:DAYLIGHT
BEGIN:STANDARD
TZOFFSETFROM:-0500
TZOFFSETTO:-0600
TZNAME:CST
DTSTART:20261101T070000
END:STANDARD
END:VTIMEZONE
BEGIN:VEVENT
DTSTART;VALUE=DATE:20250303
DTEND;VALUE=DATE:20250308
DTSTAMP:20260420T132614
CREATED:20250122T213450Z
LAST-MODIFIED:20250122T213450Z
UID:42119-1740960000-1741391999@connorsstate.edu
SUMMARY:Paper Floral Garden Craft Table!
DESCRIPTION:
URL:https://connorsstate.edu/event/paper-floral-garden-craft-table/
LOCATION:Warner Library\, 700 College Rd.\, Warner\, OK\, 74469\, United States
ORGANIZER;CN="Ona Britton-Spears":MAILTO:ona.britton-spears@connorsstate.edu
END:VEVENT
BEGIN:VEVENT
DTSTART;TZID=America/Chicago:20250303T130000
DTEND;TZID=America/Chicago:20250303T153000
DTSTAMP:20260420T132614
CREATED:20250114T185427Z
LAST-MODIFIED:20250114T185427Z
UID:41911-1741006800-1741015800@connorsstate.edu
SUMMARY:CSC Baseball vs Oklahoma Christian
DESCRIPTION:
URL:https://connorsstate.edu/event/csc-baseball-vs-oklahoma-christian-6/
LOCATION:Biff Thompson Field at Perry Keith Park\, 700 College Rd\, Warner\, OK\, 74469\, United States
END:VEVENT
BEGIN:VEVENT
DTSTART;TZID=America/Chicago:20250303T173000
DTEND;TZID=America/Chicago:20250303T190000
DTSTAMP:20260420T132614
CREATED:20240829T153931Z
LAST-MODIFIED:20240829T153931Z
UID:38846-1741023000-1741028400@connorsstate.edu
SUMMARY:Cowgirls Basketball @ NEO A&M
DESCRIPTION:Miami\, OK
URL:https://connorsstate.edu/event/cowgirls-basketball-neo-am/
LOCATION:OK
ORGANIZER;CN="Coach Jaylen Thompson":MAILTO:jaylen.thompson@connorsstate.edu
END:VEVENT
BEGIN:VEVENT
DTSTART;TZID=America/Chicago:20250303T193000
DTEND;TZID=America/Chicago:20250303T210000
DTSTAMP:20260420T132614
CREATED:20240829T192815Z
LAST-MODIFIED:20240829T192815Z
UID:38919-1741030200-1741035600@connorsstate.edu
SUMMARY:Cowboy Basketball @ Northeastern Oklahoma
DESCRIPTION:Miami\, OK
URL:https://connorsstate.edu/event/cowboy-basketball-northeastern-oklahoma/
LOCATION:OK
END:VEVENT
END:VCALENDAR