BEGIN:VCALENDAR
VERSION:2.0
PRODID:-//Connors State College - ECPv6.15.17.1//NONSGML v1.0//EN
CALSCALE:GREGORIAN
METHOD:PUBLISH
X-WR-CALNAME:Connors State College
X-ORIGINAL-URL:https://connorsstate.edu
X-WR-CALDESC:Events for Connors State College
REFRESH-INTERVAL;VALUE=DURATION:PT1H
X-Robots-Tag:noindex
X-PUBLISHED-TTL:PT1H
BEGIN:VTIMEZONE
TZID:America/Chicago
BEGIN:DAYLIGHT
TZOFFSETFROM:-0600
TZOFFSETTO:-0500
TZNAME:CDT
DTSTART:20240310T080000
END:DAYLIGHT
BEGIN:STANDARD
TZOFFSETFROM:-0500
TZOFFSETTO:-0600
TZNAME:CST
DTSTART:20241103T070000
END:STANDARD
BEGIN:DAYLIGHT
TZOFFSETFROM:-0600
TZOFFSETTO:-0500
TZNAME:CDT
DTSTART:20250309T080000
END:DAYLIGHT
BEGIN:STANDARD
TZOFFSETFROM:-0500
TZOFFSETTO:-0600
TZNAME:CST
DTSTART:20251102T070000
END:STANDARD
BEGIN:DAYLIGHT
TZOFFSETFROM:-0600
TZOFFSETTO:-0500
TZNAME:CDT
DTSTART:20260308T080000
END:DAYLIGHT
BEGIN:STANDARD
TZOFFSETFROM:-0500
TZOFFSETTO:-0600
TZNAME:CST
DTSTART:20261101T070000
END:STANDARD
END:VTIMEZONE
BEGIN:VEVENT
DTSTART;VALUE=DATE:20250313
DTEND;VALUE=DATE:20250316
DTSTAMP:20260420T132604
CREATED:20240829T154220Z
LAST-MODIFIED:20240829T154220Z
UID:38850-1741824000-1742083199@connorsstate.edu
SUMMARY:Cowgirls Basketball- Region 2 Tournament
DESCRIPTION:Muskogee\, OK
URL:https://connorsstate.edu/event/cowgirls-basketball-region-2-tournament/
LOCATION:Muskogee Public School- Rougher Village\, 3200 E Shawnee\, Muskogee\, Oklahoma
ORGANIZER;CN="Coach Jaylen Thompson":MAILTO:jaylen.thompson@connorsstate.edu
END:VEVENT
BEGIN:VEVENT
DTSTART;TZID=America/Chicago:20250313T180000
DTEND;TZID=America/Chicago:20250313T193000
DTSTAMP:20260420T132604
CREATED:20250114T185756Z
LAST-MODIFIED:20250114T185756Z
UID:41919-1741888800-1741894200@connorsstate.edu
SUMMARY:CSC Baseball vs Rose State
DESCRIPTION:
URL:https://connorsstate.edu/event/csc-baseball-vs-rose-state-4/
LOCATION:Biff Thompson Field at Perry Keith Park\, 700 College Rd\, Warner\, OK\, 74469\, United States
END:VEVENT
END:VCALENDAR