BEGIN:VCALENDAR
VERSION:2.0
PRODID:-//Connors State College - ECPv6.15.17.1//NONSGML v1.0//EN
CALSCALE:GREGORIAN
METHOD:PUBLISH
X-WR-CALNAME:Connors State College
X-ORIGINAL-URL:https://connorsstate.edu
X-WR-CALDESC:Events for Connors State College
REFRESH-INTERVAL;VALUE=DURATION:PT1H
X-Robots-Tag:noindex
X-PUBLISHED-TTL:PT1H
BEGIN:VTIMEZONE
TZID:America/Chicago
BEGIN:DAYLIGHT
TZOFFSETFROM:-0600
TZOFFSETTO:-0500
TZNAME:CDT
DTSTART:20240310T080000
END:DAYLIGHT
BEGIN:STANDARD
TZOFFSETFROM:-0500
TZOFFSETTO:-0600
TZNAME:CST
DTSTART:20241103T070000
END:STANDARD
BEGIN:DAYLIGHT
TZOFFSETFROM:-0600
TZOFFSETTO:-0500
TZNAME:CDT
DTSTART:20250309T080000
END:DAYLIGHT
BEGIN:STANDARD
TZOFFSETFROM:-0500
TZOFFSETTO:-0600
TZNAME:CST
DTSTART:20251102T070000
END:STANDARD
BEGIN:DAYLIGHT
TZOFFSETFROM:-0600
TZOFFSETTO:-0500
TZNAME:CDT
DTSTART:20260308T080000
END:DAYLIGHT
BEGIN:STANDARD
TZOFFSETFROM:-0500
TZOFFSETTO:-0600
TZNAME:CST
DTSTART:20261101T070000
END:STANDARD
END:VTIMEZONE
BEGIN:VEVENT
DTSTART;VALUE=DATE:20250323
DTEND;VALUE=DATE:20250330
DTSTAMP:20260420T132605
CREATED:20240829T193144Z
LAST-MODIFIED:20240829T193144Z
UID:38925-1742688000-1743292799@connorsstate.edu
SUMMARY:Cowboy Basketball- NJCAA National Tournament
DESCRIPTION:Hutchinson\, KS
URL:https://connorsstate.edu/event/cowboy-basketball-njcaa-national-tournament/
LOCATION:OK
END:VEVENT
BEGIN:VEVENT
DTSTART;VALUE=DATE:20250325
DTEND;VALUE=DATE:20250401
DTSTAMP:20260420T132605
CREATED:20240829T154411Z
LAST-MODIFIED:20240829T154411Z
UID:38853-1742860800-1743465599@connorsstate.edu
SUMMARY:Cowgirls Basketball- NJCCA Tournament
DESCRIPTION:Casper\, WY
URL:https://connorsstate.edu/event/cowgirls-basketball-njcca-tournament/
LOCATION:OK
ORGANIZER;CN="Coach Jaylen Thompson":MAILTO:jaylen.thompson@connorsstate.edu
END:VEVENT
BEGIN:VEVENT
DTSTART;TZID=America/Chicago:20250329T130000
DTEND;TZID=America/Chicago:20250329T170000
DTSTAMP:20260420T132605
CREATED:20250114T190504Z
LAST-MODIFIED:20250114T190504Z
UID:41933-1743253200-1743267600@connorsstate.edu
SUMMARY:CSC Baseball vs Eastern State- DH
DESCRIPTION:
URL:https://connorsstate.edu/event/csc-baseball-vs-eastern-state-dh-2/
LOCATION:Biff Thompson Field at Perry Keith Park\, 700 College Rd\, Warner\, OK\, 74469\, United States
END:VEVENT
BEGIN:VEVENT
DTSTART;TZID=America/Chicago:20250329T180000
DTEND;TZID=America/Chicago:20250329T220000
DTSTAMP:20260420T132605
CREATED:20250122T194325Z
LAST-MODIFIED:20250122T194325Z
UID:42081-1743271200-1743285600@connorsstate.edu
SUMMARY:CSC Equine and Rodeo Spring Gathering
DESCRIPTION:
URL:https://connorsstate.edu/event/csc-equine-and-rodeo-spring-gathering/
LOCATION:CSC Student Union\, 700 College Rd\, Warner\, OK\, 74469\, United States
ORGANIZER;CN="Coach Jake Walker":MAILTO:jake.walker@connorsstate.edu
END:VEVENT
END:VCALENDAR