BEGIN:VCALENDAR
VERSION:2.0
PRODID:-//Connors State College - ECPv6.15.17.1//NONSGML v1.0//EN
CALSCALE:GREGORIAN
METHOD:PUBLISH
X-ORIGINAL-URL:https://connorsstate.edu
X-WR-CALDESC:Events for Connors State College
REFRESH-INTERVAL;VALUE=DURATION:PT1H
X-Robots-Tag:noindex
X-PUBLISHED-TTL:PT1H
BEGIN:VTIMEZONE
TZID:America/Chicago
BEGIN:DAYLIGHT
TZOFFSETFROM:-0600
TZOFFSETTO:-0500
TZNAME:CDT
DTSTART:20240310T080000
END:DAYLIGHT
BEGIN:STANDARD
TZOFFSETFROM:-0500
TZOFFSETTO:-0600
TZNAME:CST
DTSTART:20241103T070000
END:STANDARD
BEGIN:DAYLIGHT
TZOFFSETFROM:-0600
TZOFFSETTO:-0500
TZNAME:CDT
DTSTART:20250309T080000
END:DAYLIGHT
BEGIN:STANDARD
TZOFFSETFROM:-0500
TZOFFSETTO:-0600
TZNAME:CST
DTSTART:20251102T070000
END:STANDARD
BEGIN:DAYLIGHT
TZOFFSETFROM:-0600
TZOFFSETTO:-0500
TZNAME:CDT
DTSTART:20260308T080000
END:DAYLIGHT
BEGIN:STANDARD
TZOFFSETFROM:-0500
TZOFFSETTO:-0600
TZNAME:CST
DTSTART:20261101T070000
END:STANDARD
END:VTIMEZONE
BEGIN:VEVENT
DTSTART;VALUE=DATE:20250409
DTEND;VALUE=DATE:20250414
DTSTAMP:20260420T120233
CREATED:20241031T185750Z
LAST-MODIFIED:20241031T185750Z
UID:40161-1744156800-1744588799@connorsstate.edu
SUMMARY:Connors State Cheer & Dance- NCA National Finals
DESCRIPTION:Daytona\, FL
URL:https://connorsstate.edu/event/connors-state-cheer-dance-nca-national-finals/
LOCATION:OK
ORGANIZER;CN="Coach Clint Maxcey":MAILTO:clint.maxcey@connorsstate.edu
END:VEVENT
BEGIN:VEVENT
DTSTART;VALUE=DATE:20250410
DTEND;VALUE=DATE:20250411
DTSTAMP:20260420T120233
CREATED:20240827T190235Z
LAST-MODIFIED:20240827T190235Z
UID:38764-1744243200-1744329599@connorsstate.edu
SUMMARY:CSC Spring Bull Sale
DESCRIPTION:
URL:https://connorsstate.edu/event/csc-spring-bull-sale/
LOCATION:OK
END:VEVENT
BEGIN:VEVENT
DTSTART;VALUE=DATE:20250410
DTEND;VALUE=DATE:20250413
DTSTAMP:20260420T120233
CREATED:20240910T192852Z
LAST-MODIFIED:20240910T192852Z
UID:39283-1744243200-1744502399@connorsstate.edu
SUMMARY:CSC Rodeo @ Southwestern Oklahoma State University
DESCRIPTION:
URL:https://connorsstate.edu/event/csc-rodeo-southwestern-oklahoma-state-university/
LOCATION:OK
ORGANIZER;CN="Coach Jake Walker":MAILTO:jake.walker@connorsstate.edu
END:VEVENT
BEGIN:VEVENT
DTSTART;TZID=America/Chicago:20250410T180000
DTEND;TZID=America/Chicago:20250410T193000
DTSTAMP:20260420T120233
CREATED:20250114T191139Z
LAST-MODIFIED:20250114T191139Z
UID:41943-1744308000-1744313400@connorsstate.edu
SUMMARY:CSC Baseball vs NEO A&M
DESCRIPTION:
URL:https://connorsstate.edu/event/csc-baseball-vs-neo-am-3/
LOCATION:Biff Thompson Field at Perry Keith Park\, 700 College Rd\, Warner\, OK\, 74469\, United States
END:VEVENT
END:VCALENDAR