BEGIN:VCALENDAR
VERSION:2.0
PRODID:-//Connors State College - ECPv6.15.17.1//NONSGML v1.0//EN
CALSCALE:GREGORIAN
METHOD:PUBLISH
X-WR-CALNAME:Connors State College
X-ORIGINAL-URL:https://connorsstate.edu
X-WR-CALDESC:Events for Connors State College
REFRESH-INTERVAL;VALUE=DURATION:PT1H
X-Robots-Tag:noindex
X-PUBLISHED-TTL:PT1H
BEGIN:VTIMEZONE
TZID:America/Chicago
BEGIN:DAYLIGHT
TZOFFSETFROM:-0600
TZOFFSETTO:-0500
TZNAME:CDT
DTSTART:20240310T080000
END:DAYLIGHT
BEGIN:STANDARD
TZOFFSETFROM:-0500
TZOFFSETTO:-0600
TZNAME:CST
DTSTART:20241103T070000
END:STANDARD
BEGIN:DAYLIGHT
TZOFFSETFROM:-0600
TZOFFSETTO:-0500
TZNAME:CDT
DTSTART:20250309T080000
END:DAYLIGHT
BEGIN:STANDARD
TZOFFSETFROM:-0500
TZOFFSETTO:-0600
TZNAME:CST
DTSTART:20251102T070000
END:STANDARD
BEGIN:DAYLIGHT
TZOFFSETFROM:-0600
TZOFFSETTO:-0500
TZNAME:CDT
DTSTART:20260308T080000
END:DAYLIGHT
BEGIN:STANDARD
TZOFFSETFROM:-0500
TZOFFSETTO:-0600
TZNAME:CST
DTSTART:20261101T070000
END:STANDARD
END:VTIMEZONE
BEGIN:VEVENT
DTSTART;TZID=America/Chicago:20250414T080000
DTEND;TZID=America/Chicago:20250418T163000
DTSTAMP:20260420T120101
CREATED:20250122T213808Z
LAST-MODIFIED:20250122T213808Z
UID:42125-1744617600-1744993800@connorsstate.edu
SUMMARY:Celebrate Haiku Poetry!
DESCRIPTION:Celebrate Haiku poetry! \nSubmit your own haiku to the library this week!
URL:https://connorsstate.edu/event/celebrate-haiku-poetry/
LOCATION:CSC Library\, 700 College Road\, Warner\, OK\, 74469
ORGANIZER;CN="Ona Britton-Spears":MAILTO:ona.britton-spears@connorsstate.edu
END:VEVENT
BEGIN:VEVENT
DTSTART;VALUE=DATE:20250415
DTEND;VALUE=DATE:20250427
DTSTAMP:20260420T120101
CREATED:20240827T190311Z
LAST-MODIFIED:20240827T190311Z
UID:38766-1744675200-1745711999@connorsstate.edu
SUMMARY:CSC Spring Plant Sale
DESCRIPTION:
URL:https://connorsstate.edu/event/csc-spring-plant-sale-7/
LOCATION:OK
END:VEVENT
BEGIN:VEVENT
DTSTART;VALUE=DATE:20250417
DTEND;VALUE=DATE:20250418
DTSTAMP:20260420T120101
CREATED:20240827T190355Z
LAST-MODIFIED:20240827T190355Z
UID:38770-1744848000-1744934399@connorsstate.edu
SUMMARY:South Ranch Shootout (Skeet\, Trap\, Archery)
DESCRIPTION:
URL:https://connorsstate.edu/event/south-ranch-shootout-skeet-trap-archery-2/
LOCATION:OK
END:VEVENT
BEGIN:VEVENT
DTSTART;VALUE=DATE:20250417
DTEND;VALUE=DATE:20250418
DTSTAMP:20260420T120101
CREATED:20250122T211753Z
LAST-MODIFIED:20250122T211753Z
UID:42106-1744848000-1744934399@connorsstate.edu
SUMMARY:CSC- Archery Team- South Ranch Youth Shootout
DESCRIPTION:
URL:https://connorsstate.edu/event/csc-archery-team-south-ranch-youth-shootout-2/
LOCATION:Harding South Ranch
ORGANIZER;CN="Coach Johnny King":MAILTO:john.king10@connorsstate.edu
END:VEVENT
BEGIN:VEVENT
DTSTART;VALUE=DATE:20250417
DTEND;VALUE=DATE:20250418
DTSTAMP:20260420T120101
CREATED:20250203T142050Z
LAST-MODIFIED:20250203T142050Z
UID:42279-1744848000-1744934399@connorsstate.edu
SUMMARY:CSC South Ranch Archery Tournament
DESCRIPTION:S25 South Ranch Shootout Flyer Updated 2 (1)
URL:https://connorsstate.edu/event/csc-south-ranch-archery-tournament-2/
LOCATION:OK
END:VEVENT
BEGIN:VEVENT
DTSTART;VALUE=DATE:20250417
DTEND;VALUE=DATE:20250420
DTSTAMP:20260420T120101
CREATED:20240910T192944Z
LAST-MODIFIED:20240910T192944Z
UID:39285-1744848000-1745107199@connorsstate.edu
SUMMARY:CSC Rodeo @ Ft. Hays State University
DESCRIPTION:
URL:https://connorsstate.edu/event/csc-rodeo-ft-hays-state-university/
LOCATION:OK
ORGANIZER;CN="Coach Jake Walker":MAILTO:jake.walker@connorsstate.edu
END:VEVENT
BEGIN:VEVENT
DTSTART;TZID=America/Chicago:20250417T130000
DTEND;TZID=America/Chicago:20250417T153000
DTSTAMP:20260420T120101
CREATED:20250114T191607Z
LAST-MODIFIED:20250114T191607Z
UID:41951-1744894800-1744903800@connorsstate.edu
SUMMARY:CSC Baseball @ Rose State
DESCRIPTION:Midwest City\, OK
URL:https://connorsstate.edu/event/csc-baseball-rose-state-2/
LOCATION:OK
END:VEVENT
END:VCALENDAR