BEGIN:VCALENDAR
VERSION:2.0
PRODID:-//Connors State College - ECPv6.15.17.1//NONSGML v1.0//EN
CALSCALE:GREGORIAN
METHOD:PUBLISH
X-ORIGINAL-URL:https://connorsstate.edu
X-WR-CALDESC:Events for Connors State College
REFRESH-INTERVAL;VALUE=DURATION:PT1H
X-Robots-Tag:noindex
X-PUBLISHED-TTL:PT1H
BEGIN:VTIMEZONE
TZID:America/Chicago
BEGIN:DAYLIGHT
TZOFFSETFROM:-0600
TZOFFSETTO:-0500
TZNAME:CDT
DTSTART:20240310T080000
END:DAYLIGHT
BEGIN:STANDARD
TZOFFSETFROM:-0500
TZOFFSETTO:-0600
TZNAME:CST
DTSTART:20241103T070000
END:STANDARD
BEGIN:DAYLIGHT
TZOFFSETFROM:-0600
TZOFFSETTO:-0500
TZNAME:CDT
DTSTART:20250309T080000
END:DAYLIGHT
BEGIN:STANDARD
TZOFFSETFROM:-0500
TZOFFSETTO:-0600
TZNAME:CST
DTSTART:20251102T070000
END:STANDARD
BEGIN:DAYLIGHT
TZOFFSETFROM:-0600
TZOFFSETTO:-0500
TZNAME:CDT
DTSTART:20260308T080000
END:DAYLIGHT
BEGIN:STANDARD
TZOFFSETFROM:-0500
TZOFFSETTO:-0600
TZNAME:CST
DTSTART:20261101T070000
END:STANDARD
END:VTIMEZONE
BEGIN:VEVENT
DTSTART;VALUE=DATE:20250415
DTEND;VALUE=DATE:20250427
DTSTAMP:20260420T120233
CREATED:20240827T190311Z
LAST-MODIFIED:20240827T190311Z
UID:38766-1744675200-1745711999@connorsstate.edu
SUMMARY:CSC Spring Plant Sale
DESCRIPTION:
URL:https://connorsstate.edu/event/csc-spring-plant-sale-7/
LOCATION:OK
END:VEVENT
BEGIN:VEVENT
DTSTART;VALUE=DATE:20250423
DTEND;VALUE=DATE:20250424
DTSTAMP:20260420T120233
CREATED:20250203T141905Z
LAST-MODIFIED:20250203T141905Z
UID:42273-1745366400-1745452799@connorsstate.edu
SUMMARY:CSC South Ranch Shootout for Trap and Skeet
DESCRIPTION:2025 Spring Shootout (1)flyer (1)
URL:https://connorsstate.edu/event/csc-south-ranch-shootout-for-trap-and-skeet-5/
LOCATION:OK
END:VEVENT
BEGIN:VEVENT
DTSTART;TZID=America/Chicago:20250423T140000
DTEND;TZID=America/Chicago:20250423T160000
DTSTAMP:20260420T120233
CREATED:20241217T175849Z
LAST-MODIFIED:20241217T175849Z
UID:41626-1745416800-1745424000@connorsstate.edu
SUMMARY:Research Seminar Series- Dr. Madeline Baker
DESCRIPTION:Dr. Madeline Baker \nCommunications Instructor \nConnors State College
URL:https://connorsstate.edu/event/research-seminar-series-dr-madeline-baker/
LOCATION:LLC Auditorium\, 700 College Rd\, Warner\, OK\, 74469\, United States
ORGANIZER;CN="Ona Britton-Spears":MAILTO:ona.britton-spears@connorsstate.edu
END:VEVENT
END:VCALENDAR