BEGIN:VCALENDAR
VERSION:2.0
PRODID:-//Connors State College - ECPv6.15.17.1//NONSGML v1.0//EN
CALSCALE:GREGORIAN
METHOD:PUBLISH
X-WR-CALNAME:Connors State College
X-ORIGINAL-URL:https://connorsstate.edu
X-WR-CALDESC:Events for Connors State College
REFRESH-INTERVAL;VALUE=DURATION:PT1H
X-Robots-Tag:noindex
X-PUBLISHED-TTL:PT1H
BEGIN:VTIMEZONE
TZID:America/Chicago
BEGIN:DAYLIGHT
TZOFFSETFROM:-0600
TZOFFSETTO:-0500
TZNAME:CDT
DTSTART:20240310T080000
END:DAYLIGHT
BEGIN:STANDARD
TZOFFSETFROM:-0500
TZOFFSETTO:-0600
TZNAME:CST
DTSTART:20241103T070000
END:STANDARD
BEGIN:DAYLIGHT
TZOFFSETFROM:-0600
TZOFFSETTO:-0500
TZNAME:CDT
DTSTART:20250309T080000
END:DAYLIGHT
BEGIN:STANDARD
TZOFFSETFROM:-0500
TZOFFSETTO:-0600
TZNAME:CST
DTSTART:20251102T070000
END:STANDARD
BEGIN:DAYLIGHT
TZOFFSETFROM:-0600
TZOFFSETTO:-0500
TZNAME:CDT
DTSTART:20260308T080000
END:DAYLIGHT
BEGIN:STANDARD
TZOFFSETFROM:-0500
TZOFFSETTO:-0600
TZNAME:CST
DTSTART:20261101T070000
END:STANDARD
END:VTIMEZONE
BEGIN:VEVENT
DTSTART;VALUE=DATE:20250415
DTEND;VALUE=DATE:20250427
DTSTAMP:20260420T120143
CREATED:20240827T190311Z
LAST-MODIFIED:20240827T190311Z
UID:38766-1744675200-1745711999@connorsstate.edu
SUMMARY:CSC Spring Plant Sale
DESCRIPTION:
URL:https://connorsstate.edu/event/csc-spring-plant-sale-7/
LOCATION:OK
END:VEVENT
BEGIN:VEVENT
DTSTART;VALUE=DATE:20250424
DTEND;VALUE=DATE:20250427
DTSTAMP:20260420T120143
CREATED:20240827T190442Z
LAST-MODIFIED:20240827T190442Z
UID:38774-1745452800-1745711999@connorsstate.edu
SUMMARY:South Ranch Shootout (Skeet\, Trap\, Archery)
DESCRIPTION:
URL:https://connorsstate.edu/event/south-ranch-shootout-skeet-trap-archery-4/
LOCATION:OK
END:VEVENT
BEGIN:VEVENT
DTSTART;VALUE=DATE:20250424
DTEND;VALUE=DATE:20250427
DTSTAMP:20260420T120143
CREATED:20240910T193041Z
LAST-MODIFIED:20240910T193041Z
UID:39287-1745452800-1745711999@connorsstate.edu
SUMMARY:CSC Rodeo @ Panhandle State University
DESCRIPTION:
URL:https://connorsstate.edu/event/csc-rodeo-panhandle-state-university/
LOCATION:OK
ORGANIZER;CN="Coach Jake Walker":MAILTO:jake.walker@connorsstate.edu
END:VEVENT
BEGIN:VEVENT
DTSTART;VALUE=DATE:20250424
DTEND;VALUE=DATE:20250427
DTSTAMP:20260420T120143
CREATED:20250122T211853Z
LAST-MODIFIED:20250122T211933Z
UID:42110-1745452800-1745711999@connorsstate.edu
SUMMARY:CSC- Archery Team- South Ranch Youth Shootout
DESCRIPTION:
URL:https://connorsstate.edu/event/csc-archery-team-south-ranch-youth-shootout-4/
LOCATION:Harding South Ranch
ORGANIZER;CN="Coach Johnny King":MAILTO:john.king10@connorsstate.edu
END:VEVENT
BEGIN:VEVENT
DTSTART;VALUE=DATE:20250424
DTEND;VALUE=DATE:20250427
DTSTAMP:20260420T120143
CREATED:20250203T142132Z
LAST-MODIFIED:20250203T142132Z
UID:42283-1745452800-1745711999@connorsstate.edu
SUMMARY:CSC South Ranch Archery Tournament
DESCRIPTION:S25 South Ranch Shootout Flyer Updated 2 (1)
URL:https://connorsstate.edu/event/csc-south-ranch-archery-tournament-4/
LOCATION:OK
END:VEVENT
BEGIN:VEVENT
DTSTART;VALUE=DATE:20250425
DTEND;VALUE=DATE:20250427
DTSTAMP:20260420T120143
CREATED:20250203T141930Z
LAST-MODIFIED:20250203T141930Z
UID:42275-1745539200-1745711999@connorsstate.edu
SUMMARY:CSC South Ranch Shootout for Trap and Skeet
DESCRIPTION:2025 Spring Shootout (1)flyer (1)
URL:https://connorsstate.edu/event/csc-south-ranch-shootout-for-trap-and-skeet-6/
LOCATION:OK
END:VEVENT
BEGIN:VEVENT
DTSTART;TZID=America/Chicago:20250426T130000
DTEND;TZID=America/Chicago:20250426T170000
DTSTAMP:20260420T120143
CREATED:20250114T191948Z
LAST-MODIFIED:20250114T191948Z
UID:41959-1745672400-1745686800@connorsstate.edu
SUMMARY:CSC Baseball @ Seminole State- DH
DESCRIPTION:Seminole\, OK
URL:https://connorsstate.edu/event/csc-baseball-seminole-state-dh-2/
LOCATION:OK
END:VEVENT
END:VCALENDAR