BEGIN:VCALENDAR
VERSION:2.0
PRODID:-//Connors State College - ECPv6.15.17.1//NONSGML v1.0//EN
CALSCALE:GREGORIAN
METHOD:PUBLISH
X-ORIGINAL-URL:https://connorsstate.edu
X-WR-CALDESC:Events for Connors State College
REFRESH-INTERVAL;VALUE=DURATION:PT1H
X-Robots-Tag:noindex
X-PUBLISHED-TTL:PT1H
BEGIN:VTIMEZONE
TZID:America/Chicago
BEGIN:DAYLIGHT
TZOFFSETFROM:-0600
TZOFFSETTO:-0500
TZNAME:CDT
DTSTART:20240310T080000
END:DAYLIGHT
BEGIN:STANDARD
TZOFFSETFROM:-0500
TZOFFSETTO:-0600
TZNAME:CST
DTSTART:20241103T070000
END:STANDARD
BEGIN:DAYLIGHT
TZOFFSETFROM:-0600
TZOFFSETTO:-0500
TZNAME:CDT
DTSTART:20250309T080000
END:DAYLIGHT
BEGIN:STANDARD
TZOFFSETFROM:-0500
TZOFFSETTO:-0600
TZNAME:CST
DTSTART:20251102T070000
END:STANDARD
BEGIN:DAYLIGHT
TZOFFSETFROM:-0600
TZOFFSETTO:-0500
TZNAME:CDT
DTSTART:20260308T080000
END:DAYLIGHT
BEGIN:STANDARD
TZOFFSETFROM:-0500
TZOFFSETTO:-0600
TZNAME:CST
DTSTART:20261101T070000
END:STANDARD
END:VTIMEZONE
BEGIN:VEVENT
DTSTART;TZID=America/Chicago:20250505T080000
DTEND;TZID=America/Chicago:20250509T163000
DTSTAMP:20260420T102310
CREATED:20250122T213859Z
LAST-MODIFIED:20250122T213859Z
UID:42127-1746432000-1746808200@connorsstate.edu
SUMMARY:Snacks for Final- Warner Library
DESCRIPTION:
URL:https://connorsstate.edu/event/snacks-for-final-warner-library/
LOCATION:Warner Library\, 700 College Rd.\, Warner\, OK\, 74469\, United States
ORGANIZER;CN="Ona Britton-Spears":MAILTO:ona.britton-spears@connorsstate.edu
END:VEVENT
BEGIN:VEVENT
DTSTART;VALUE=DATE:20250508
DTEND;VALUE=DATE:20250512
DTSTAMP:20260420T102310
CREATED:20250114T192418Z
LAST-MODIFIED:20250114T192418Z
UID:41965-1746662400-1747007999@connorsstate.edu
SUMMARY:Region II Baseball Playoffs
DESCRIPTION:Seminole\, OK
URL:https://connorsstate.edu/event/region-ii-baseball-playoffs-2/
LOCATION:OK
END:VEVENT
BEGIN:VEVENT
DTSTART;TZID=America/Chicago:20250509T190000
DTEND;TZID=America/Chicago:20250509T203000
DTSTAMP:20260420T102310
CREATED:20241203T153235Z
LAST-MODIFIED:20241203T153235Z
UID:41008-1746817200-1746822600@connorsstate.edu
SUMMARY:CSC Spring Commencement Ceremony
DESCRIPTION:
URL:https://connorsstate.edu/event/csc-spring-commencement-ceremony/
LOCATION:Muskogee Public School- Rougher Village\, 3200 E Shawnee\, Muskogee\, Oklahoma
END:VEVENT
END:VCALENDAR