BEGIN:VCALENDAR
VERSION:2.0
PRODID:-//Connors State College - ECPv6.15.17.1//NONSGML v1.0//EN
CALSCALE:GREGORIAN
METHOD:PUBLISH
X-WR-CALNAME:Connors State College
X-ORIGINAL-URL:https://connorsstate.edu
X-WR-CALDESC:Events for Connors State College
REFRESH-INTERVAL;VALUE=DURATION:PT1H
X-Robots-Tag:noindex
X-PUBLISHED-TTL:PT1H
BEGIN:VTIMEZONE
TZID:America/Chicago
BEGIN:DAYLIGHT
TZOFFSETFROM:-0600
TZOFFSETTO:-0500
TZNAME:CDT
DTSTART:20240310T080000
END:DAYLIGHT
BEGIN:STANDARD
TZOFFSETFROM:-0500
TZOFFSETTO:-0600
TZNAME:CST
DTSTART:20241103T070000
END:STANDARD
BEGIN:DAYLIGHT
TZOFFSETFROM:-0600
TZOFFSETTO:-0500
TZNAME:CDT
DTSTART:20250309T080000
END:DAYLIGHT
BEGIN:STANDARD
TZOFFSETFROM:-0500
TZOFFSETTO:-0600
TZNAME:CST
DTSTART:20251102T070000
END:STANDARD
BEGIN:DAYLIGHT
TZOFFSETFROM:-0600
TZOFFSETTO:-0500
TZNAME:CDT
DTSTART:20260308T080000
END:DAYLIGHT
BEGIN:STANDARD
TZOFFSETFROM:-0500
TZOFFSETTO:-0600
TZNAME:CST
DTSTART:20261101T070000
END:STANDARD
END:VTIMEZONE
BEGIN:VEVENT
DTSTART;VALUE=DATE:20250601
DTEND;VALUE=DATE:20250605
DTSTAMP:20260420T102125
CREATED:20250515T172704Z
LAST-MODIFIED:20250515T172704Z
UID:44826-1748736000-1749081599@connorsstate.edu
SUMMARY:McPeak's Be a Champ Show  Cattle Camp
DESCRIPTION:
URL:https://connorsstate.edu/event/mcpeaks-be-a-champ-show-cattle-camp/
LOCATION:Warner Campus\, 700 College Rd\, Warner\, OK\, 74469\, United States
ORGANIZER;CN="Jerry McPeak":MAILTO:beachamp@me.com
END:VEVENT
BEGIN:VEVENT
DTSTART;TZID=America/Chicago:20250602T090000
DTEND;TZID=America/Chicago:20250602T123000
DTSTAMP:20260420T102125
CREATED:20250515T152334Z
LAST-MODIFIED:20250515T152334Z
UID:44796-1748854800-1748867400@connorsstate.edu
SUMMARY:CSC INTENSIFIED HITTING BASEBALL CAMP
DESCRIPTION:
URL:https://connorsstate.edu/event/csc-intensified-hitting-baseball-camp/
LOCATION:Biff Thompson Field at Perry Keith Park\, 700 College Rd\, Warner\, OK\, 74469\, United States
END:VEVENT
BEGIN:VEVENT
DTSTART;TZID=America/Chicago:20250602T090000
DTEND;TZID=America/Chicago:20250604T120000
DTSTAMP:20260420T102125
CREATED:20250515T173324Z
LAST-MODIFIED:20250515T173324Z
UID:44839-1748854800-1749038400@connorsstate.edu
SUMMARY:CSC Cowgirl Softball Camp
DESCRIPTION:
URL:https://connorsstate.edu/event/csc-cowgirl-softball-camp/
LOCATION:Softball Field\, 700 College Rd\, Warner\, OK\, 74469\, United States
ORGANIZER;CN="Coach Bobby Foreman":MAILTO:fbobby@connorsstate.edu
END:VEVENT
END:VCALENDAR