BEGIN:VCALENDAR
VERSION:2.0
PRODID:-//Connors State College - ECPv6.15.17.1//NONSGML v1.0//EN
CALSCALE:GREGORIAN
METHOD:PUBLISH
X-ORIGINAL-URL:https://connorsstate.edu
X-WR-CALDESC:Events for Connors State College
REFRESH-INTERVAL;VALUE=DURATION:PT1H
X-Robots-Tag:noindex
X-PUBLISHED-TTL:PT1H
BEGIN:VTIMEZONE
TZID:America/Chicago
BEGIN:DAYLIGHT
TZOFFSETFROM:-0600
TZOFFSETTO:-0500
TZNAME:CDT
DTSTART:20240310T080000
END:DAYLIGHT
BEGIN:STANDARD
TZOFFSETFROM:-0500
TZOFFSETTO:-0600
TZNAME:CST
DTSTART:20241103T070000
END:STANDARD
BEGIN:DAYLIGHT
TZOFFSETFROM:-0600
TZOFFSETTO:-0500
TZNAME:CDT
DTSTART:20250309T080000
END:DAYLIGHT
BEGIN:STANDARD
TZOFFSETFROM:-0500
TZOFFSETTO:-0600
TZNAME:CST
DTSTART:20251102T070000
END:STANDARD
BEGIN:DAYLIGHT
TZOFFSETFROM:-0600
TZOFFSETTO:-0500
TZNAME:CDT
DTSTART:20260308T080000
END:DAYLIGHT
BEGIN:STANDARD
TZOFFSETFROM:-0500
TZOFFSETTO:-0600
TZNAME:CST
DTSTART:20261101T070000
END:STANDARD
END:VTIMEZONE
BEGIN:VEVENT
DTSTART;TZID=America/Chicago:20250910T080000
DTEND;TZID=America/Chicago:20250910T130000
DTSTAMP:20260420T042815
CREATED:20250807T132455Z
LAST-MODIFIED:20250807T132455Z
UID:48248-1757491200-1757509200@connorsstate.edu
SUMMARY:CSC Shotgun Shooting Sports- Tribal Youth Shoot
DESCRIPTION:
URL:https://connorsstate.edu/event/csc-shotgun-shooting-sports-tribal-youth-shoot/
LOCATION:Harding South Ranch
ORGANIZER;CN="Nick Hayes":MAILTO:nick.hayes@connorsstate.edu
END:VEVENT
BEGIN:VEVENT
DTSTART;TZID=America/Chicago:20250910T180000
DTEND;TZID=America/Chicago:20250910T193000
DTSTAMP:20260420T042815
CREATED:20250731T184633Z
LAST-MODIFIED:20250731T184633Z
UID:47880-1757527200-1757532600@connorsstate.edu
SUMMARY:CSC Women's Soccer vs Eastern
DESCRIPTION:
URL:https://connorsstate.edu/event/csc-womens-soccer-vs-eastern/
LOCATION:Hilldale Public Schools\, 300 E Smith Ferry Rd.\, Muskogee\, OK\, 74403\, United States
ORGANIZER;CN="Coach Adam Skolnick":MAILTO:adam.skolnick@connorsstate.edu
END:VEVENT
BEGIN:VEVENT
DTSTART;TZID=America/Chicago:20250910T200000
DTEND;TZID=America/Chicago:20250910T213000
DTSTAMP:20260420T042815
CREATED:20250731T184543Z
LAST-MODIFIED:20250731T184543Z
UID:47878-1757534400-1757539800@connorsstate.edu
SUMMARY:CSC Men's Soccer vs Eastern
DESCRIPTION:
URL:https://connorsstate.edu/event/csc-mens-soccer-vs-eastern/
LOCATION:Hilldale Public Schools\, 300 E Smith Ferry Rd.\, Muskogee\, OK\, 74403\, United States
ORGANIZER;CN="Coach Adam Skolnick":MAILTO:adam.skolnick@connorsstate.edu
END:VEVENT
END:VCALENDAR