BEGIN:VCALENDAR
VERSION:2.0
PRODID:-//Connors State College - ECPv6.15.17.1//NONSGML v1.0//EN
CALSCALE:GREGORIAN
METHOD:PUBLISH
X-ORIGINAL-URL:https://connorsstate.edu
X-WR-CALDESC:Events for Connors State College
REFRESH-INTERVAL;VALUE=DURATION:PT1H
X-Robots-Tag:noindex
X-PUBLISHED-TTL:PT1H
BEGIN:VTIMEZONE
TZID:America/Chicago
BEGIN:DAYLIGHT
TZOFFSETFROM:-0600
TZOFFSETTO:-0500
TZNAME:CDT
DTSTART:20240310T080000
END:DAYLIGHT
BEGIN:STANDARD
TZOFFSETFROM:-0500
TZOFFSETTO:-0600
TZNAME:CST
DTSTART:20241103T070000
END:STANDARD
BEGIN:DAYLIGHT
TZOFFSETFROM:-0600
TZOFFSETTO:-0500
TZNAME:CDT
DTSTART:20250309T080000
END:DAYLIGHT
BEGIN:STANDARD
TZOFFSETFROM:-0500
TZOFFSETTO:-0600
TZNAME:CST
DTSTART:20251102T070000
END:STANDARD
BEGIN:DAYLIGHT
TZOFFSETFROM:-0600
TZOFFSETTO:-0500
TZNAME:CDT
DTSTART:20260308T080000
END:DAYLIGHT
BEGIN:STANDARD
TZOFFSETFROM:-0500
TZOFFSETTO:-0600
TZNAME:CST
DTSTART:20261101T070000
END:STANDARD
END:VTIMEZONE
BEGIN:VEVENT
DTSTART;VALUE=DATE:20250917
DTEND;VALUE=DATE:20250921
DTSTAMP:20260420T042751
CREATED:20250804T212202Z
LAST-MODIFIED:20250804T212202Z
UID:48058-1758067200-1758412799@connorsstate.edu
SUMMARY:CSC Meat Judging Team- Beef Empire Days
DESCRIPTION:Garden City\, KS
URL:https://connorsstate.edu/event/csc-meat-judging-team-beef-empire-days/
LOCATION:OK
ORGANIZER;CN="McKenzie Sinclair":MAILTO:mckenzie.sinclair@connorsstate.edu
END:VEVENT
BEGIN:VEVENT
DTSTART;VALUE=DATE:20250918
DTEND;VALUE=DATE:20250919
DTSTAMP:20260420T042751
CREATED:20250807T132727Z
LAST-MODIFIED:20250807T132739Z
UID:48252-1758153600-1758239999@connorsstate.edu
SUMMARY:CSC Shotgun Shooting Sports- Sand Springs FFA Shoot
DESCRIPTION:Sand Springs. OK
URL:https://connorsstate.edu/event/csc-shotgun-shooting-sports-sand-springs-ffa-shoot/
LOCATION:OK
ORGANIZER;CN="Nick Hayes":MAILTO:nick.hayes@connorsstate.edu
END:VEVENT
BEGIN:VEVENT
DTSTART;TZID=America/Chicago:20250918T120000
DTEND;TZID=America/Chicago:20250918T143000
DTSTAMP:20260420T042751
CREATED:20250805T155949Z
LAST-MODIFIED:20250805T155949Z
UID:48098-1758196800-1758205800@connorsstate.edu
SUMMARY:CSC Baseball vs Murray State College
DESCRIPTION:
URL:https://connorsstate.edu/event/csc-baseball-vs-murray-state-college-2/
LOCATION:Biff Thompson Field at Perry Keith Park\, 700 College Rd\, Warner\, OK\, 74469\, United States
END:VEVENT
END:VCALENDAR