BEGIN:VCALENDAR
VERSION:2.0
PRODID:-//Connors State College - ECPv6.15.17.1//NONSGML v1.0//EN
CALSCALE:GREGORIAN
METHOD:PUBLISH
X-ORIGINAL-URL:https://connorsstate.edu
X-WR-CALDESC:Events for Connors State College
REFRESH-INTERVAL;VALUE=DURATION:PT1H
X-Robots-Tag:noindex
X-PUBLISHED-TTL:PT1H
BEGIN:VTIMEZONE
TZID:America/Chicago
BEGIN:DAYLIGHT
TZOFFSETFROM:-0600
TZOFFSETTO:-0500
TZNAME:CDT
DTSTART:20240310T080000
END:DAYLIGHT
BEGIN:STANDARD
TZOFFSETFROM:-0500
TZOFFSETTO:-0600
TZNAME:CST
DTSTART:20241103T070000
END:STANDARD
BEGIN:DAYLIGHT
TZOFFSETFROM:-0600
TZOFFSETTO:-0500
TZNAME:CDT
DTSTART:20250309T080000
END:DAYLIGHT
BEGIN:STANDARD
TZOFFSETFROM:-0500
TZOFFSETTO:-0600
TZNAME:CST
DTSTART:20251102T070000
END:STANDARD
BEGIN:DAYLIGHT
TZOFFSETFROM:-0600
TZOFFSETTO:-0500
TZNAME:CDT
DTSTART:20260308T080000
END:DAYLIGHT
BEGIN:STANDARD
TZOFFSETFROM:-0500
TZOFFSETTO:-0600
TZNAME:CST
DTSTART:20261101T070000
END:STANDARD
END:VTIMEZONE
BEGIN:VEVENT
DTSTART;TZID=America/Chicago:20250924T150000
DTEND;TZID=America/Chicago:20250924T160000
DTSTAMP:20260420T042815
CREATED:20250806T165638Z
LAST-MODIFIED:20250806T165907Z
UID:48180-1758726000-1758729600@connorsstate.edu
SUMMARY:CSC Library- Research Seminar Series- Dr. Kimberly Phillips
DESCRIPTION:
URL:https://connorsstate.edu/event/csc-library-research-seminar-series-dr-kimberly-phillips/
LOCATION:LLC Auditorium\, 700 College Rd\, Warner\, OK\, 74469\, United States
ORGANIZER;CN="Ona Britton-Spears":MAILTO:ona.britton-spears@connorsstate.edu
END:VEVENT
BEGIN:VEVENT
DTSTART;TZID=America/Chicago:20250924T180000
DTEND;TZID=America/Chicago:20250924T193000
DTSTAMP:20260420T042815
CREATED:20250804T190337Z
LAST-MODIFIED:20250804T190337Z
UID:48025-1758736800-1758742200@connorsstate.edu
SUMMARY:CSC Women's Soccer vs Murray State
DESCRIPTION:
URL:https://connorsstate.edu/event/csc-womens-soccer-vs-murray-state/
LOCATION:Hilldale Public Schools\, 300 E Smith Ferry Rd.\, Muskogee\, OK\, 74403\, United States
ORGANIZER;CN="Coach Adam Skolnick":MAILTO:adam.skolnick@connorsstate.edu
END:VEVENT
BEGIN:VEVENT
DTSTART;TZID=America/Chicago:20250924T200000
DTEND;TZID=America/Chicago:20250924T213000
DTSTAMP:20260420T042815
CREATED:20250804T190418Z
LAST-MODIFIED:20250804T190418Z
UID:48027-1758744000-1758749400@connorsstate.edu
SUMMARY:CSC Men's Soccer vs Murray State
DESCRIPTION:
URL:https://connorsstate.edu/event/csc-mens-soccer-vs-murray-state/
LOCATION:Hilldale Public Schools\, 300 E Smith Ferry Rd.\, Muskogee\, OK\, 74403\, United States
ORGANIZER;CN="Coach Adam Skolnick":MAILTO:adam.skolnick@connorsstate.edu
END:VEVENT
END:VCALENDAR