BEGIN:VCALENDAR
VERSION:2.0
PRODID:-//Connors State College - ECPv6.15.17.1//NONSGML v1.0//EN
CALSCALE:GREGORIAN
METHOD:PUBLISH
X-WR-CALNAME:Connors State College
X-ORIGINAL-URL:https://connorsstate.edu
X-WR-CALDESC:Events for Connors State College
REFRESH-INTERVAL;VALUE=DURATION:PT1H
X-Robots-Tag:noindex
X-PUBLISHED-TTL:PT1H
BEGIN:VTIMEZONE
TZID:America/Chicago
BEGIN:DAYLIGHT
TZOFFSETFROM:-0600
TZOFFSETTO:-0500
TZNAME:CDT
DTSTART:20240310T080000
END:DAYLIGHT
BEGIN:STANDARD
TZOFFSETFROM:-0500
TZOFFSETTO:-0600
TZNAME:CST
DTSTART:20241103T070000
END:STANDARD
BEGIN:DAYLIGHT
TZOFFSETFROM:-0600
TZOFFSETTO:-0500
TZNAME:CDT
DTSTART:20250309T080000
END:DAYLIGHT
BEGIN:STANDARD
TZOFFSETFROM:-0500
TZOFFSETTO:-0600
TZNAME:CST
DTSTART:20251102T070000
END:STANDARD
BEGIN:DAYLIGHT
TZOFFSETFROM:-0600
TZOFFSETTO:-0500
TZNAME:CDT
DTSTART:20260308T080000
END:DAYLIGHT
BEGIN:STANDARD
TZOFFSETFROM:-0500
TZOFFSETTO:-0600
TZNAME:CST
DTSTART:20261101T070000
END:STANDARD
END:VTIMEZONE
BEGIN:VEVENT
DTSTART;VALUE=DATE:20251005
DTEND;VALUE=DATE:20251006
DTSTAMP:20260420T024634
CREATED:20250730T214912Z
LAST-MODIFIED:20250730T214912Z
UID:47820-1759622400-1759708799@connorsstate.edu
SUMMARY:CSC-Livestock Judging Team\, Flint HIll @ Hutchinson OK
DESCRIPTION:
URL:https://connorsstate.edu/event/csc-livestock-judging-team-flint-hill-hutchinson-ok/
LOCATION:OK
ORGANIZER;CN="Daniel Lujan":MAILTO:daniel.lujan@connorsstate.edu
END:VEVENT
BEGIN:VEVENT
DTSTART;TZID=America/Chicago:20251005T130000
DTEND;TZID=America/Chicago:20251005T143000
DTSTAMP:20260420T024634
CREATED:20250804T191248Z
LAST-MODIFIED:20250804T191248Z
UID:48033-1759669200-1759674600@connorsstate.edu
SUMMARY:CSC Men's Soccer @ Rich Mountain
DESCRIPTION:
URL:https://connorsstate.edu/event/csc-mens-soccer-rich-mountain/
LOCATION:OK
ORGANIZER;CN="Coach Adam Skolnick":MAILTO:adam.skolnick@connorsstate.edu
END:VEVENT
BEGIN:VEVENT
DTSTART;TZID=America/Chicago:20251005T150000
DTEND;TZID=America/Chicago:20251005T163000
DTSTAMP:20260420T024634
CREATED:20250804T191216Z
LAST-MODIFIED:20250804T191216Z
UID:48031-1759676400-1759681800@connorsstate.edu
SUMMARY:CSC Women's Soccer @ Rich Mountain
DESCRIPTION:
URL:https://connorsstate.edu/event/csc-womens-soccer-rich-mountain/
LOCATION:OK
ORGANIZER;CN="Coach Adam Skolnick":MAILTO:adam.skolnick@connorsstate.edu
END:VEVENT
END:VCALENDAR