BEGIN:VCALENDAR
VERSION:2.0
PRODID:-//Connors State College - ECPv6.15.17.1//NONSGML v1.0//EN
CALSCALE:GREGORIAN
METHOD:PUBLISH
X-ORIGINAL-URL:https://connorsstate.edu
X-WR-CALDESC:Events for Connors State College
REFRESH-INTERVAL;VALUE=DURATION:PT1H
X-Robots-Tag:noindex
X-PUBLISHED-TTL:PT1H
BEGIN:VTIMEZONE
TZID:America/Chicago
BEGIN:DAYLIGHT
TZOFFSETFROM:-0600
TZOFFSETTO:-0500
TZNAME:CDT
DTSTART:20240310T080000
END:DAYLIGHT
BEGIN:STANDARD
TZOFFSETFROM:-0500
TZOFFSETTO:-0600
TZNAME:CST
DTSTART:20241103T070000
END:STANDARD
BEGIN:DAYLIGHT
TZOFFSETFROM:-0600
TZOFFSETTO:-0500
TZNAME:CDT
DTSTART:20250309T080000
END:DAYLIGHT
BEGIN:STANDARD
TZOFFSETFROM:-0500
TZOFFSETTO:-0600
TZNAME:CST
DTSTART:20251102T070000
END:STANDARD
BEGIN:DAYLIGHT
TZOFFSETFROM:-0600
TZOFFSETTO:-0500
TZNAME:CDT
DTSTART:20260308T080000
END:DAYLIGHT
BEGIN:STANDARD
TZOFFSETFROM:-0500
TZOFFSETTO:-0600
TZNAME:CST
DTSTART:20261101T070000
END:STANDARD
END:VTIMEZONE
BEGIN:VEVENT
DTSTART;VALUE=DATE:20251009
DTEND;VALUE=DATE:20251013
DTSTAMP:20260420T042744
CREATED:20250807T133653Z
LAST-MODIFIED:20250807T133653Z
UID:48255-1759968000-1760313599@connorsstate.edu
SUMMARY:CSC Shotgun Shooting Sports- ACUI Fall Central
DESCRIPTION:Sparta\, Illinois
URL:https://connorsstate.edu/event/csc-shotgun-shooting-sports-acui-fall-central/
LOCATION:OK
ORGANIZER;CN="Nick Hayes":MAILTO:nick.hayes@connorsstate.edu
END:VEVENT
BEGIN:VEVENT
DTSTART;VALUE=DATE:20251010
DTEND;VALUE=DATE:20251011
DTSTAMP:20260420T042744
CREATED:20250806T170600Z
LAST-MODIFIED:20250806T170600Z
UID:48184-1760054400-1760140799@connorsstate.edu
SUMMARY:CSC Library- Book Bingo Begins! Get your BINGO Card!
DESCRIPTION:
URL:https://connorsstate.edu/event/csc-library-book-bingo-begins-get-your-bingo-card/
LOCATION:CSC Library\, 700 College Road\, Warner\, OK\, 74469
ORGANIZER;CN="Ona Britton-Spears":MAILTO:ona.britton-spears@connorsstate.edu
END:VEVENT
BEGIN:VEVENT
DTSTART;VALUE=DATE:20251010
DTEND;VALUE=DATE:20251011
DTSTAMP:20260420T042744
CREATED:20250905T201010Z
LAST-MODIFIED:20250905T201010Z
UID:49070-1760054400-1760140799@connorsstate.edu
SUMMARY:CSC Men's Basketball @ Mullin Mitchell JUCO Jamboree
DESCRIPTION:Fort Worth\, TX
URL:https://connorsstate.edu/event/csc-mens-basketball-mullin-mitchell-juco-jamboree/
LOCATION:OK
END:VEVENT
END:VCALENDAR