BEGIN:VCALENDAR
VERSION:2.0
PRODID:-//Connors State College - ECPv6.15.17.1//NONSGML v1.0//EN
CALSCALE:GREGORIAN
METHOD:PUBLISH
X-ORIGINAL-URL:https://connorsstate.edu
X-WR-CALDESC:Events for Connors State College
REFRESH-INTERVAL;VALUE=DURATION:PT1H
X-Robots-Tag:noindex
X-PUBLISHED-TTL:PT1H
BEGIN:VTIMEZONE
TZID:America/Chicago
BEGIN:DAYLIGHT
TZOFFSETFROM:-0600
TZOFFSETTO:-0500
TZNAME:CDT
DTSTART:20240310T080000
END:DAYLIGHT
BEGIN:STANDARD
TZOFFSETFROM:-0500
TZOFFSETTO:-0600
TZNAME:CST
DTSTART:20241103T070000
END:STANDARD
BEGIN:DAYLIGHT
TZOFFSETFROM:-0600
TZOFFSETTO:-0500
TZNAME:CDT
DTSTART:20250309T080000
END:DAYLIGHT
BEGIN:STANDARD
TZOFFSETFROM:-0500
TZOFFSETTO:-0600
TZNAME:CST
DTSTART:20251102T070000
END:STANDARD
BEGIN:DAYLIGHT
TZOFFSETFROM:-0600
TZOFFSETTO:-0500
TZNAME:CDT
DTSTART:20260308T080000
END:DAYLIGHT
BEGIN:STANDARD
TZOFFSETFROM:-0500
TZOFFSETTO:-0600
TZNAME:CST
DTSTART:20261101T070000
END:STANDARD
END:VTIMEZONE
BEGIN:VEVENT
DTSTART;VALUE=DATE:20251016
DTEND;VALUE=DATE:20251021
DTSTAMP:20260420T042751
CREATED:20250804T212404Z
LAST-MODIFIED:20250804T212404Z
UID:48061-1760572800-1761004799@connorsstate.edu
SUMMARY:CSC Meat Judging Team- American Royal
DESCRIPTION:Omaha\, NB
URL:https://connorsstate.edu/event/csc-meat-judging-team-american-royal/
LOCATION:OK
ORGANIZER;CN="McKenzie Sinclair":MAILTO:mckenzie.sinclair@connorsstate.edu
END:VEVENT
BEGIN:VEVENT
DTSTART;VALUE=DATE:20251020
DTEND;VALUE=DATE:20251021
DTSTAMP:20260420T042751
CREATED:20250730T215643Z
LAST-MODIFIED:20250730T215643Z
UID:47829-1760918400-1761004799@connorsstate.edu
SUMMARY:CSC-Livestock Judging Team- American Royal @ Kansas City\, mo
DESCRIPTION:
URL:https://connorsstate.edu/event/csc-livestock-judging-team-american-royal-kansas-city-mo/
LOCATION:OK
ORGANIZER;CN="Daniel Lujan":MAILTO:daniel.lujan@connorsstate.edu
END:VEVENT
BEGIN:VEVENT
DTSTART;TZID=America/Chicago:20251020T130000
DTEND;TZID=America/Chicago:20251020T150000
DTSTAMP:20260420T042751
CREATED:20250805T182227Z
LAST-MODIFIED:20250805T182227Z
UID:48120-1760965200-1760972400@connorsstate.edu
SUMMARY:CSC Baseball @ Northeastern State
DESCRIPTION:Tahlequah\, OK
URL:https://connorsstate.edu/event/csc-baseball-northeastern-state-2/
LOCATION:OK
END:VEVENT
END:VCALENDAR