BEGIN:VCALENDAR
VERSION:2.0
PRODID:-//Connors State College - ECPv6.15.17.1//NONSGML v1.0//EN
CALSCALE:GREGORIAN
METHOD:PUBLISH
X-WR-CALNAME:Connors State College
X-ORIGINAL-URL:https://connorsstate.edu
X-WR-CALDESC:Events for Connors State College
REFRESH-INTERVAL;VALUE=DURATION:PT1H
X-Robots-Tag:noindex
X-PUBLISHED-TTL:PT1H
BEGIN:VTIMEZONE
TZID:America/Chicago
BEGIN:DAYLIGHT
TZOFFSETFROM:-0600
TZOFFSETTO:-0500
TZNAME:CDT
DTSTART:20240310T080000
END:DAYLIGHT
BEGIN:STANDARD
TZOFFSETFROM:-0500
TZOFFSETTO:-0600
TZNAME:CST
DTSTART:20241103T070000
END:STANDARD
BEGIN:DAYLIGHT
TZOFFSETFROM:-0600
TZOFFSETTO:-0500
TZNAME:CDT
DTSTART:20250309T080000
END:DAYLIGHT
BEGIN:STANDARD
TZOFFSETFROM:-0500
TZOFFSETTO:-0600
TZNAME:CST
DTSTART:20251102T070000
END:STANDARD
BEGIN:DAYLIGHT
TZOFFSETFROM:-0600
TZOFFSETTO:-0500
TZNAME:CDT
DTSTART:20260308T080000
END:DAYLIGHT
BEGIN:STANDARD
TZOFFSETFROM:-0500
TZOFFSETTO:-0600
TZNAME:CST
DTSTART:20261101T070000
END:STANDARD
END:VTIMEZONE
BEGIN:VEVENT
DTSTART;VALUE=DATE:20251103
DTEND;VALUE=DATE:20251114
DTSTAMP:20260420T010930
CREATED:20250806T173229Z
LAST-MODIFIED:20250806T173229Z
UID:48193-1762128000-1763078399@connorsstate.edu
SUMMARY:CSC Library- Holiday Coloring Contest Begins- Entries Due Dec. 2nd
DESCRIPTION:
URL:https://connorsstate.edu/event/csc-library-holiday-coloring-contest-begins-entries-due-dec-2nd/
LOCATION:CSC Library\, 700 College Road\, Warner\, OK\, 74469
ORGANIZER;CN="Ona Britton-Spears":MAILTO:ona.britton-spears@connorsstate.edu
END:VEVENT
BEGIN:VEVENT
DTSTART;TZID=America/Chicago:20251104T140000
DTEND;TZID=America/Chicago:20251104T160000
DTSTAMP:20260420T010930
CREATED:20251104T160734Z
LAST-MODIFIED:20251104T160734Z
UID:51028-1762264800-1762272000@connorsstate.edu
SUMMARY:Basket Weaving
DESCRIPTION:
URL:https://connorsstate.edu/event/basket-weaving/
LOCATION:Warner Library\, 700 College Rd.\, Warner\, OK\, 74469\, United States
ORGANIZER;CN="Ona Britton-Spears":MAILTO:ona.britton-spears@connorsstate.edu
END:VEVENT
BEGIN:VEVENT
DTSTART;TZID=America/Chicago:20251104T170000
DTEND;TZID=America/Chicago:20251104T183000
DTSTAMP:20260420T010930
CREATED:20250828T213511Z
LAST-MODIFIED:20250828T214009Z
UID:48812-1762275600-1762281000@connorsstate.edu
SUMMARY:CSC Women's Basketball vs Pratt CC
DESCRIPTION:
URL:https://connorsstate.edu/event/csc-womens-basketball-vs-pratt-cc/
LOCATION:Melvin Self Fieldhouse\, 700 College Rd\, Warner\, OK\, 74469\, United States
ORGANIZER;CN="Coach Jaylen Thompson":MAILTO:jaylen.thompson@connorsstate.edu
END:VEVENT
END:VCALENDAR