BEGIN:VCALENDAR
VERSION:2.0
PRODID:-//Connors State College - ECPv6.15.17.1//NONSGML v1.0//EN
CALSCALE:GREGORIAN
METHOD:PUBLISH
X-ORIGINAL-URL:https://connorsstate.edu
X-WR-CALDESC:Events for Connors State College
REFRESH-INTERVAL;VALUE=DURATION:PT1H
X-Robots-Tag:noindex
X-PUBLISHED-TTL:PT1H
BEGIN:VTIMEZONE
TZID:America/Chicago
BEGIN:DAYLIGHT
TZOFFSETFROM:-0600
TZOFFSETTO:-0500
TZNAME:CDT
DTSTART:20240310T080000
END:DAYLIGHT
BEGIN:STANDARD
TZOFFSETFROM:-0500
TZOFFSETTO:-0600
TZNAME:CST
DTSTART:20241103T070000
END:STANDARD
BEGIN:DAYLIGHT
TZOFFSETFROM:-0600
TZOFFSETTO:-0500
TZNAME:CDT
DTSTART:20250309T080000
END:DAYLIGHT
BEGIN:STANDARD
TZOFFSETFROM:-0500
TZOFFSETTO:-0600
TZNAME:CST
DTSTART:20251102T070000
END:STANDARD
BEGIN:DAYLIGHT
TZOFFSETFROM:-0600
TZOFFSETTO:-0500
TZNAME:CDT
DTSTART:20260308T080000
END:DAYLIGHT
BEGIN:STANDARD
TZOFFSETFROM:-0500
TZOFFSETTO:-0600
TZNAME:CST
DTSTART:20261101T070000
END:STANDARD
END:VTIMEZONE
BEGIN:VEVENT
DTSTART;VALUE=DATE:20251201
DTEND;VALUE=DATE:20251212
DTSTAMP:20260419T232918
CREATED:20250806T181028Z
LAST-MODIFIED:20250806T181028Z
UID:48200-1764547200-1765497599@connorsstate.edu
SUMMARY:CSC Library- Finals Fest- Crafts\, Snacks\, Games\, and Fun!
DESCRIPTION:
URL:https://connorsstate.edu/event/csc-library-finals-fest-crafts-snacks-games-and-fun/
LOCATION:CSC Library\, 700 College Road\, Warner\, OK\, 74469
ORGANIZER;CN="Ona Britton-Spears":MAILTO:ona.britton-spears@connorsstate.edu
END:VEVENT
END:VCALENDAR