BEGIN:VCALENDAR
VERSION:2.0
PRODID:-//Connors State College - ECPv6.15.20//NONSGML v1.0//EN
CALSCALE:GREGORIAN
METHOD:PUBLISH
X-WR-CALNAME:Connors State College
X-ORIGINAL-URL:https://connorsstate.edu
X-WR-CALDESC:Events for Connors State College
REFRESH-INTERVAL;VALUE=DURATION:PT1H
X-Robots-Tag:noindex
X-PUBLISHED-TTL:PT1H
BEGIN:VTIMEZONE
TZID:America/Chicago
BEGIN:DAYLIGHT
TZOFFSETFROM:-0600
TZOFFSETTO:-0500
TZNAME:CDT
DTSTART:20190310T080000
END:DAYLIGHT
BEGIN:STANDARD
TZOFFSETFROM:-0500
TZOFFSETTO:-0600
TZNAME:CST
DTSTART:20191103T070000
END:STANDARD
BEGIN:DAYLIGHT
TZOFFSETFROM:-0600
TZOFFSETTO:-0500
TZNAME:CDT
DTSTART:20200308T080000
END:DAYLIGHT
BEGIN:STANDARD
TZOFFSETFROM:-0500
TZOFFSETTO:-0600
TZNAME:CST
DTSTART:20201101T070000
END:STANDARD
BEGIN:DAYLIGHT
TZOFFSETFROM:-0600
TZOFFSETTO:-0500
TZNAME:CDT
DTSTART:20210314T080000
END:DAYLIGHT
BEGIN:STANDARD
TZOFFSETFROM:-0500
TZOFFSETTO:-0600
TZNAME:CST
DTSTART:20211107T070000
END:STANDARD
END:VTIMEZONE
BEGIN:VEVENT
DTSTART;TZID=America/Chicago:20200501T080000
DTEND;TZID=America/Chicago:20200501T160000
DTSTAMP:20260425T165650
CREATED:20200128T221203Z
LAST-MODIFIED:20210211T160545Z
UID:18656-1588320000-1588348800@connorsstate.edu
SUMMARY:Last Day to Withdraw from all CSC courses (student has to visit admissions for total withdraw)
DESCRIPTION:
URL:https://connorsstate.edu/event/last-day-to-withdraw-from-al-csc-courses-student-has-to-visit-admissions-for-total-withdraw/
LOCATION:OK
END:VEVENT
BEGIN:VEVENT
DTSTART;TZID=America/Chicago:20200501T080000
DTEND;TZID=America/Chicago:20200501T160000
DTSTAMP:20260425T165650
CREATED:20200128T222351Z
LAST-MODIFIED:20210211T160545Z
UID:18670-1588320000-1588348800@connorsstate.edu
SUMMARY:Last Day to Withdraw From a Single 2nd 8-week course or all CSC courses with a grade of "W" NO REFUND
DESCRIPTION:
URL:https://connorsstate.edu/event/last-day-to-withdraw-from-a-single-2nd-8-week-course-or-all-csc-courses-with-a-grade-of-w-no-refund-second-eight-week-classes/
LOCATION:OK
END:VEVENT
BEGIN:VEVENT
DTSTART;TZID=America/Chicago:20200504T080000
DTEND;TZID=America/Chicago:20200507T170000
DTSTAMP:20260425T165650
CREATED:20200128T221432Z
LAST-MODIFIED:20210211T160545Z
UID:18658-1588579200-1588870800@connorsstate.edu
SUMMARY:Finals Week
DESCRIPTION:
URL:https://connorsstate.edu/event/finals-week/
LOCATION:OK
END:VEVENT
END:VCALENDAR