BEGIN:VCALENDAR
VERSION:2.0
PRODID:-//Connors State College - ECPv6.15.17.1//NONSGML v1.0//EN
CALSCALE:GREGORIAN
METHOD:PUBLISH
X-WR-CALNAME:Connors State College
X-ORIGINAL-URL:https://connorsstate.edu
X-WR-CALDESC:Events for Connors State College
REFRESH-INTERVAL;VALUE=DURATION:PT1H
X-Robots-Tag:noindex
X-PUBLISHED-TTL:PT1H
BEGIN:VTIMEZONE
TZID:America/Chicago
BEGIN:DAYLIGHT
TZOFFSETFROM:-0600
TZOFFSETTO:-0500
TZNAME:CDT
DTSTART:20220313T080000
END:DAYLIGHT
BEGIN:STANDARD
TZOFFSETFROM:-0500
TZOFFSETTO:-0600
TZNAME:CST
DTSTART:20221106T070000
END:STANDARD
BEGIN:DAYLIGHT
TZOFFSETFROM:-0600
TZOFFSETTO:-0500
TZNAME:CDT
DTSTART:20230312T080000
END:DAYLIGHT
BEGIN:STANDARD
TZOFFSETFROM:-0500
TZOFFSETTO:-0600
TZNAME:CST
DTSTART:20231105T070000
END:STANDARD
BEGIN:DAYLIGHT
TZOFFSETFROM:-0600
TZOFFSETTO:-0500
TZNAME:CDT
DTSTART:20240310T080000
END:DAYLIGHT
BEGIN:STANDARD
TZOFFSETFROM:-0500
TZOFFSETTO:-0600
TZNAME:CST
DTSTART:20241103T070000
END:STANDARD
END:VTIMEZONE
BEGIN:VEVENT
DTSTART;TZID=America/Chicago:20230502T080000
DTEND;TZID=America/Chicago:20230502T170000
DTSTAMP:20260421T194159
CREATED:20230308T163143Z
LAST-MODIFIED:20230308T163143Z
UID:28837-1683014400-1683046800@connorsstate.edu
SUMMARY:Spring Student Concert
DESCRIPTION:
URL:https://connorsstate.edu/event/spring-student-concert/
LOCATION:Nero Fine Arts Auditorium\, 700 College Rd\, Warner\, OK\, 74469\, United States
END:VEVENT
BEGIN:VEVENT
DTSTART;TZID=America/Chicago:20230502T100000
DTEND;TZID=America/Chicago:20230505T170000
DTSTAMP:20260421T194159
CREATED:20230410T193935Z
LAST-MODIFIED:20230410T193935Z
UID:29083-1683021600-1683306000@connorsstate.edu
SUMMARY:CSC Spring Plant Sale
DESCRIPTION:
URL:https://connorsstate.edu/event/csc-spring-plant-sale-3/
LOCATION:Green Houses\, 700 College Rd\, Warner\, OK\, 74469\, United States
END:VEVENT
BEGIN:VEVENT
DTSTART;TZID=America/Chicago:20230504T170000
DTEND;TZID=America/Chicago:20230504T190000
DTSTAMP:20260421T194159
CREATED:20221116T220937Z
LAST-MODIFIED:20221116T220937Z
UID:28333-1683219600-1683226800@connorsstate.edu
SUMMARY:CSC Baseball vs Bacone College
DESCRIPTION:
URL:https://connorsstate.edu/event/csc-baseball-vs-bacone-college/
LOCATION:OK
END:VEVENT
BEGIN:VEVENT
DTSTART;TZID=America/Chicago:20230506T100000
DTEND;TZID=America/Chicago:20230506T140000
DTSTAMP:20260421T194159
CREATED:20230410T194126Z
LAST-MODIFIED:20230410T194126Z
UID:29089-1683367200-1683381600@connorsstate.edu
SUMMARY:CSC Spring Plant Sale
DESCRIPTION:
URL:https://connorsstate.edu/event/csc-spring-plant-sale-6/
LOCATION:Green Houses\, 700 College Rd\, Warner\, OK\, 74469\, United States
END:VEVENT
BEGIN:VEVENT
DTSTART;TZID=America/Chicago:20230506T130000
DTEND;TZID=America/Chicago:20230506T170000
DTSTAMP:20260421T194159
CREATED:20221116T221030Z
LAST-MODIFIED:20221116T221030Z
UID:28335-1683378000-1683392400@connorsstate.edu
SUMMARY:CSC Baseball vs U of A Mt. Home- DH
DESCRIPTION:
URL:https://connorsstate.edu/event/csc-baseball-vs-u-of-a-mt-home-dh/
LOCATION:OK
END:VEVENT
BEGIN:VEVENT
DTSTART;VALUE=DATE:20230508
DTEND;VALUE=DATE:20230512
DTSTAMP:20260421T194159
CREATED:20230208T191256Z
LAST-MODIFIED:20230208T191256Z
UID:28689-1683504000-1683849599@connorsstate.edu
SUMMARY:CSC Library- Snacks for Finals!
DESCRIPTION:Will take place at both libraries.
URL:https://connorsstate.edu/event/csc-library-snacks-for-finals/
LOCATION:CSC Library\, 700 College Road\, Warner\, OK\, 74469
ORGANIZER;CN="Ona Britton-Spears":MAILTO:ona.britton-spears@connorsstate.edu
END:VEVENT
BEGIN:VEVENT
DTSTART;VALUE=DATE:20230512
DTEND;VALUE=DATE:20230516
DTSTAMP:20260421T194159
CREATED:20221116T221218Z
LAST-MODIFIED:20230306T150051Z
UID:28337-1683849600-1684195199@connorsstate.edu
SUMMARY:Region II Baseball Playoffs
DESCRIPTION:Time and Place TBD
URL:https://connorsstate.edu/event/region-ii-baseball-playoffs/
LOCATION:OK
END:VEVENT
BEGIN:VEVENT
DTSTART;TZID=America/Chicago:20230512T140000
DTEND;TZID=America/Chicago:20230512T160000
DTSTAMP:20260421T194159
CREATED:20230501T205336Z
LAST-MODIFIED:20230501T205336Z
UID:29255-1683900000-1683907200@connorsstate.edu
SUMMARY:Spring Nurse Pinning
DESCRIPTION:
URL:https://connorsstate.edu/event/spring-nurse-pinning/
LOCATION:Muskogee Public School- Rougher Village\, 3200 E Shawnee\, Muskogee\, Oklahoma
ORGANIZER;CN="Tracy Lieblang":MAILTO:tracy.liblang@connorsstate.edu
END:VEVENT
BEGIN:VEVENT
DTSTART;TZID=America/Chicago:20230512T190000
DTEND;TZID=America/Chicago:20230512T210000
DTSTAMP:20260421T194159
CREATED:20230501T205249Z
LAST-MODIFIED:20230501T205249Z
UID:29253-1683918000-1683925200@connorsstate.edu
SUMMARY:Spring Commencement
DESCRIPTION:
URL:https://connorsstate.edu/event/spring-commencement/
LOCATION:Muskogee Public School- Rougher Village\, 3200 E Shawnee\, Muskogee\, Oklahoma
ORGANIZER;CN="Derotha Rivenbark":MAILTO:drivenb@connorsstate.edu
END:VEVENT
BEGIN:VEVENT
DTSTART;VALUE=DATE:20230518
DTEND;VALUE=DATE:20230522
DTSTAMP:20260421T194159
CREATED:20220817T155222Z
LAST-MODIFIED:20220817T155222Z
UID:27445-1684368000-1684713599@connorsstate.edu
SUMMARY:CSC Archery- USA Archery Collegiate Target Nationals
DESCRIPTION:
URL:https://connorsstate.edu/event/csc-archery-usa-archery-collegiate-target-nationals/
LOCATION:OK
ORGANIZER;CN="Coach Johnny King":MAILTO:john.king10@connorsstate.edu
END:VEVENT
BEGIN:VEVENT
DTSTART;VALUE=DATE:20230529
DTEND;VALUE=DATE:20230530
DTSTAMP:20260421T194159
CREATED:20230501T204341Z
LAST-MODIFIED:20230501T204341Z
UID:29233-1685318400-1685404799@connorsstate.edu
SUMMARY:Memorial Day- Campus Closed
DESCRIPTION:
URL:https://connorsstate.edu/event/memorial-day-campus-closed/
LOCATION:OK
END:VEVENT
BEGIN:VEVENT
DTSTART;VALUE=DATE:20230530
DTEND;VALUE=DATE:20230721
DTSTAMP:20260421T194159
CREATED:20230501T204210Z
LAST-MODIFIED:20230501T204210Z
UID:29230-1685404800-1689897599@connorsstate.edu
SUMMARY:Summer Session
DESCRIPTION:
URL:https://connorsstate.edu/event/summer-session/
LOCATION:OK
END:VEVENT
END:VCALENDAR