BEGIN:VCALENDAR
VERSION:2.0
PRODID:-//Connors State College - ECPv6.15.17.1//NONSGML v1.0//EN
CALSCALE:GREGORIAN
METHOD:PUBLISH
X-ORIGINAL-URL:https://connorsstate.edu
X-WR-CALDESC:Events for Connors State College
REFRESH-INTERVAL;VALUE=DURATION:PT1H
X-Robots-Tag:noindex
X-PUBLISHED-TTL:PT1H
BEGIN:VTIMEZONE
TZID:America/Chicago
BEGIN:DAYLIGHT
TZOFFSETFROM:-0600
TZOFFSETTO:-0500
TZNAME:CDT
DTSTART:20240310T080000
END:DAYLIGHT
BEGIN:STANDARD
TZOFFSETFROM:-0500
TZOFFSETTO:-0600
TZNAME:CST
DTSTART:20241103T070000
END:STANDARD
BEGIN:DAYLIGHT
TZOFFSETFROM:-0600
TZOFFSETTO:-0500
TZNAME:CDT
DTSTART:20250309T080000
END:DAYLIGHT
BEGIN:STANDARD
TZOFFSETFROM:-0500
TZOFFSETTO:-0600
TZNAME:CST
DTSTART:20251102T070000
END:STANDARD
BEGIN:DAYLIGHT
TZOFFSETFROM:-0600
TZOFFSETTO:-0500
TZNAME:CDT
DTSTART:20260308T080000
END:DAYLIGHT
BEGIN:STANDARD
TZOFFSETFROM:-0500
TZOFFSETTO:-0600
TZNAME:CST
DTSTART:20261101T070000
END:STANDARD
END:VTIMEZONE
BEGIN:VEVENT
DTSTART;VALUE=DATE:20250630
DTEND;VALUE=DATE:20250703
DTSTAMP:20260420T054920
CREATED:20250515T173025Z
LAST-MODIFIED:20250515T173025Z
UID:44837-1751241600-1751500799@connorsstate.edu
SUMMARY:McPeak's Be a Champ Show Goat Camp
DESCRIPTION:
URL:https://connorsstate.edu/event/mcpeaks-be-a-champ-show-goat-camp/
LOCATION:Warner Campus\, 700 College Rd\, Warner\, OK\, 74469\, United States
ORGANIZER;CN="Jerry McPeak":MAILTO:beachamp@me.com
END:VEVENT
BEGIN:VEVENT
DTSTART;VALUE=DATE:20250701
DTEND;VALUE=DATE:20250710
DTSTAMP:20260420T054920
CREATED:20250625T155842Z
LAST-MODIFIED:20250625T155842Z
UID:46758-1751328000-1752105599@connorsstate.edu
SUMMARY:Pet Photo Day Contest- Submission
DESCRIPTION:Submission from July 1-9th \nVote on Facebook on the pics from 10th-13 \nWe’ll announce a winner on the 14th. \nhttps://connorsstate.libguides.com/eventsguide \n  \n 
URL:https://connorsstate.edu/event/pet-photo-day-contest-submission/
LOCATION:Muskogee & Warner Campuses
ORGANIZER;CN="Ona Britton-Spears":MAILTO:ona.britton-spears@connorsstate.edu
END:VEVENT
BEGIN:VEVENT
DTSTART;TZID=America/Chicago:20250707T090000
DTEND;TZID=America/Chicago:20250710T150000
DTSTAMP:20260420T054920
CREATED:20250515T155524Z
LAST-MODIFIED:20250515T155524Z
UID:44808-1751878800-1752159600@connorsstate.edu
SUMMARY:CSC Basketball Individual Skills Camp
DESCRIPTION:
URL:https://connorsstate.edu/event/csc-basketball-individual-skills-camp/
LOCATION:Melvin Self Fieldhouse\, 700 College Rd\, Warner\, OK\, 74469\, United States
END:VEVENT
BEGIN:VEVENT
DTSTART;VALUE=DATE:20250710
DTEND;VALUE=DATE:20250713
DTSTAMP:20260420T054920
CREATED:20250515T173922Z
LAST-MODIFIED:20250515T173922Z
UID:44848-1752105600-1752364799@connorsstate.edu
SUMMARY:Livestock Judging Camp
DESCRIPTION:
URL:https://connorsstate.edu/event/livestock-judging-camp/
LOCATION:Warner Campus\, 700 College Rd\, Warner\, OK\, 74469\, United States
ORGANIZER;CN="Daniel Lujan":MAILTO:daniel.lujan@connorsstate.edu
END:VEVENT
BEGIN:VEVENT
DTSTART;VALUE=DATE:20250710
DTEND;VALUE=DATE:20250714
DTSTAMP:20260420T054920
CREATED:20250625T160000Z
LAST-MODIFIED:20250625T160000Z
UID:46760-1752105600-1752451199@connorsstate.edu
SUMMARY:Pet Photo Contest- Voting
DESCRIPTION:Submission from July 1-9th \nVote on Facebook on the pics from 10th-13 \nWe’ll announce a winner on the 14th. \nhttps://connorsstate.libguides.com/eventsguide
URL:https://connorsstate.edu/event/pet-photo-contest-voting/
LOCATION:Muskogee & Warner Campuses
ORGANIZER;CN="Ona Britton-Spears":MAILTO:ona.britton-spears@connorsstate.edu
END:VEVENT
BEGIN:VEVENT
DTSTART;TZID=America/Chicago:20250711T090000
DTEND;TZID=America/Chicago:20250712T150000
DTSTAMP:20260420T054920
CREATED:20250515T155352Z
LAST-MODIFIED:20250515T155352Z
UID:44802-1752224400-1752332400@connorsstate.edu
SUMMARY:CSC Basketball Shooting Camp
DESCRIPTION:
URL:https://connorsstate.edu/event/csc-basketball-shooting-camp/
LOCATION:Melvin Self Fieldhouse\, 700 College Rd\, Warner\, OK\, 74469\, United States
END:VEVENT
BEGIN:VEVENT
DTSTART;VALUE=DATE:20250714
DTEND;VALUE=DATE:20250715
DTSTAMP:20260420T054920
CREATED:20250625T160527Z
LAST-MODIFIED:20250625T160527Z
UID:46762-1752451200-1752537599@connorsstate.edu
SUMMARY:Pet Contest Winner- Announcement
DESCRIPTION:Submission from July 1-9th \nVote on Facebook on the pics from 10th-13 \nWe’ll announce a winner on the 14th. \nhttps://connorsstate.libguides.com/eventsguide
URL:https://connorsstate.edu/event/pet-contest-winner-announcement/
LOCATION:Muskogee & Warner Campuses
ORGANIZER;CN="Ona Britton-Spears":MAILTO:ona.britton-spears@connorsstate.edu
END:VEVENT
BEGIN:VEVENT
DTSTART;VALUE=DATE:20250731
DTEND;VALUE=DATE:20250802
DTSTAMP:20260420T054920
CREATED:20250515T174133Z
LAST-MODIFIED:20250515T174133Z
UID:44852-1753920000-1754092799@connorsstate.edu
SUMMARY:CSC Cheer Camp
DESCRIPTION:
URL:https://connorsstate.edu/event/csc-cheer-camp/
LOCATION:Melvin Self Fieldhouse\, 700 College Rd\, Warner\, OK\, 74469\, United States
ORGANIZER;CN="Coach Clint Maxcey":MAILTO:clint.maxcey@connorsstate.edu
END:VEVENT
END:VCALENDAR