BEGIN:VCALENDAR
VERSION:2.0
PRODID:-//Connors State College - ECPv6.15.17.1//NONSGML v1.0//EN
CALSCALE:GREGORIAN
METHOD:PUBLISH
X-WR-CALNAME:Connors State College
X-ORIGINAL-URL:https://connorsstate.edu
X-WR-CALDESC:Events for Connors State College
REFRESH-INTERVAL;VALUE=DURATION:PT1H
X-Robots-Tag:noindex
X-PUBLISHED-TTL:PT1H
BEGIN:VTIMEZONE
TZID:America/Chicago
BEGIN:DAYLIGHT
TZOFFSETFROM:-0600
TZOFFSETTO:-0500
TZNAME:CDT
DTSTART:20240310T080000
END:DAYLIGHT
BEGIN:STANDARD
TZOFFSETFROM:-0500
TZOFFSETTO:-0600
TZNAME:CST
DTSTART:20241103T070000
END:STANDARD
BEGIN:DAYLIGHT
TZOFFSETFROM:-0600
TZOFFSETTO:-0500
TZNAME:CDT
DTSTART:20250309T080000
END:DAYLIGHT
BEGIN:STANDARD
TZOFFSETFROM:-0500
TZOFFSETTO:-0600
TZNAME:CST
DTSTART:20251102T070000
END:STANDARD
BEGIN:DAYLIGHT
TZOFFSETFROM:-0600
TZOFFSETTO:-0500
TZNAME:CDT
DTSTART:20260308T080000
END:DAYLIGHT
BEGIN:STANDARD
TZOFFSETFROM:-0500
TZOFFSETTO:-0600
TZNAME:CST
DTSTART:20261101T070000
END:STANDARD
END:VTIMEZONE
BEGIN:VEVENT
DTSTART;VALUE=DATE:20250731
DTEND;VALUE=DATE:20250802
DTSTAMP:20260420T042615
CREATED:20250515T174133Z
LAST-MODIFIED:20250515T174133Z
UID:44852-1753920000-1754092799@connorsstate.edu
SUMMARY:CSC Cheer Camp
DESCRIPTION:
URL:https://connorsstate.edu/event/csc-cheer-camp/
LOCATION:Melvin Self Fieldhouse\, 700 College Rd\, Warner\, OK\, 74469\, United States
ORGANIZER;CN="Coach Clint Maxcey":MAILTO:clint.maxcey@connorsstate.edu
END:VEVENT
BEGIN:VEVENT
DTSTART;TZID=America/Chicago:20250809T170000
DTEND;TZID=America/Chicago:20250809T183000
DTSTAMP:20260420T042615
CREATED:20250731T132253Z
LAST-MODIFIED:20250731T132253Z
UID:47851-1754758800-1754764200@connorsstate.edu
SUMMARY:CSC Women's Soccer @ Hesston
DESCRIPTION:
URL:https://connorsstate.edu/event/csc-womens-soccer-hesston/
LOCATION:OK
ORGANIZER;CN="Coach Adam Skolnick":MAILTO:adam.skolnick@connorsstate.edu
END:VEVENT
BEGIN:VEVENT
DTSTART;TZID=America/Chicago:20250809T190000
DTEND;TZID=America/Chicago:20250809T203000
DTSTAMP:20260420T042615
CREATED:20250731T132345Z
LAST-MODIFIED:20250731T132345Z
UID:47853-1754766000-1754771400@connorsstate.edu
SUMMARY:CSC Men's Soccer @ Hesston
DESCRIPTION:
URL:https://connorsstate.edu/event/csc-mens-soccer-hesston/
LOCATION:OK
ORGANIZER;CN="Coach Adam Skolnick":MAILTO:adam.skolnick@connorsstate.edu
END:VEVENT
BEGIN:VEVENT
DTSTART;TZID=America/Chicago:20250816T080000
DTEND;TZID=America/Chicago:20250816T130000
DTSTAMP:20260420T042615
CREATED:20250807T131657Z
LAST-MODIFIED:20250807T131657Z
UID:48241-1755331200-1755349200@connorsstate.edu
SUMMARY:CSC Shotgun Shooting Sports- Kids Space Charity Shoot
DESCRIPTION:
URL:https://connorsstate.edu/event/csc-shotgun-shooting-sports-kids-space-charity-shoot/
LOCATION:Harding South Ranch
ORGANIZER;CN="Nick Hayes":MAILTO:nick.hayes@connorsstate.edu
END:VEVENT
BEGIN:VEVENT
DTSTART;VALUE=DATE:20250818
DTEND;VALUE=DATE:20250830
DTSTAMP:20260420T042615
CREATED:20250806T154541Z
LAST-MODIFIED:20250806T154541Z
UID:48167-1755475200-1756511999@connorsstate.edu
SUMMARY:Make a T-Shirt with Cricut!
DESCRIPTION:All Supplies Provided \nAugust 18-29 M-F 8 am – 4:30 pm
URL:https://connorsstate.edu/event/make-a-t-shirt-with-cricut/
LOCATION:Warner Library\, 700 College Rd.\, Warner\, OK\, 74469\, United States
ORGANIZER;CN="Ona Britton-Spears":MAILTO:ona.britton-spears@connorsstate.edu
END:VEVENT
BEGIN:VEVENT
DTSTART;TZID=America/Chicago:20250819T130000
DTEND;TZID=America/Chicago:20250819T143000
DTSTAMP:20260420T042615
CREATED:20250731T132931Z
LAST-MODIFIED:20250731T132931Z
UID:47857-1755608400-1755613800@connorsstate.edu
SUMMARY:CSC Women's Soccer @ Randall
DESCRIPTION:
URL:https://connorsstate.edu/event/csc-womens-soccer-randall/
LOCATION:OK
ORGANIZER;CN="Coach Adam Skolnick":MAILTO:adam.skolnick@connorsstate.edu
END:VEVENT
BEGIN:VEVENT
DTSTART;TZID=America/Chicago:20250819T150000
DTEND;TZID=America/Chicago:20250819T170000
DTSTAMP:20260420T042615
CREATED:20250731T132844Z
LAST-MODIFIED:20250731T132844Z
UID:47855-1755615600-1755622800@connorsstate.edu
SUMMARY:CSC Men's Soccer @ Randall
DESCRIPTION:
URL:https://connorsstate.edu/event/csc-mens-soccer-randall/
LOCATION:OK
ORGANIZER;CN="Coach Adam Skolnick":MAILTO:adam.skolnick@connorsstate.edu
END:VEVENT
BEGIN:VEVENT
DTSTART;VALUE=DATE:20250822
DTEND;VALUE=DATE:20250825
DTSTAMP:20260420T042615
CREATED:20250807T132009Z
LAST-MODIFIED:20250807T132009Z
UID:48244-1755820800-1756079999@connorsstate.edu
SUMMARY:CSC Shotgun Shooting Sports @ Ft. Hays
DESCRIPTION:Hays\, KS \n 
URL:https://connorsstate.edu/event/csc-shotgun-shooting-sports-ft-hays/
LOCATION:OK
ORGANIZER;CN="Nick Hayes":MAILTO:nick.hayes@connorsstate.edu
END:VEVENT
BEGIN:VEVENT
DTSTART;TZID=America/Chicago:20250823T190000
DTEND;TZID=America/Chicago:20250823T203000
DTSTAMP:20260420T042615
CREATED:20250731T133939Z
LAST-MODIFIED:20250731T133939Z
UID:47859-1755975600-1755981000@connorsstate.edu
SUMMARY:CSC Women's Soccer @ Ozarks
DESCRIPTION:
URL:https://connorsstate.edu/event/csc-womens-soccer-ozarks/
LOCATION:OK
ORGANIZER;CN="Coach Adam Skolnick":MAILTO:adam.skolnick@connorsstate.edu
END:VEVENT
BEGIN:VEVENT
DTSTART;TZID=America/Chicago:20250826T140000
DTEND;TZID=America/Chicago:20250826T163000
DTSTAMP:20260420T042615
CREATED:20250806T155009Z
LAST-MODIFIED:20250806T163846Z
UID:48169-1756216800-1756225800@connorsstate.edu
SUMMARY:CSC Warner Library Open House
DESCRIPTION:
URL:https://connorsstate.edu/event/warner-library-open-house/
LOCATION:Warner Library\, 700 College Rd.\, Warner\, OK\, 74469\, United States
ORGANIZER;CN="Ona Britton-Spears":MAILTO:ona.britton-spears@connorsstate.edu
END:VEVENT
BEGIN:VEVENT
DTSTART;TZID=America/Chicago:20250827T123000
DTEND;TZID=America/Chicago:20250827T140000
DTSTAMP:20260420T042615
CREATED:20250806T163818Z
LAST-MODIFIED:20250806T163818Z
UID:48171-1756297800-1756303200@connorsstate.edu
SUMMARY:CSC Muskogee Library Open House
DESCRIPTION:
URL:https://connorsstate.edu/event/csc-muskogee-library-open-house/
LOCATION:Muskogee Port Campus Library\, 2501 N. 41st Street East\, Muskogee\, OK\, 74403
ORGANIZER;CN="Ona Britton-Spears":MAILTO:ona.britton-spears@connorsstate.edu
END:VEVENT
BEGIN:VEVENT
DTSTART;VALUE=DATE:20250829
DTEND;VALUE=DATE:20250830
DTSTAMP:20260420T042615
CREATED:20250825T180307Z
LAST-MODIFIED:20250825T180307Z
UID:48763-1756425600-1756511999@connorsstate.edu
SUMMARY:CSC Cross Country- Carl Albert
DESCRIPTION:
URL:https://connorsstate.edu/event/csc-cross-country-carl-albert/
LOCATION:OK
ORGANIZER;CN="Coach Korey Keith":MAILTO:koreywk@connorsstate.edu
END:VEVENT
END:VCALENDAR